BEGIN:VCALENDAR
VERSION:2.0
PRODID:-//Curt Hagman Fourth District Supervisor - ECPv6.15.14//NONSGML v1.0//EN
CALSCALE:GREGORIAN
METHOD:PUBLISH
X-WR-CALNAME:Curt Hagman Fourth District Supervisor
X-ORIGINAL-URL:https://bosd4.sbcounty.gov
X-WR-CALDESC:Events for Curt Hagman Fourth District Supervisor
REFRESH-INTERVAL;VALUE=DURATION:PT1H
X-Robots-Tag:noindex
X-PUBLISHED-TTL:PT1H
BEGIN:VTIMEZONE
TZID:UTC
BEGIN:STANDARD
TZOFFSETFROM:+0000
TZOFFSETTO:+0000
TZNAME:UTC
DTSTART:20230101T000000
END:STANDARD
END:VTIMEZONE
BEGIN:VEVENT
DTSTART;TZID=UTC:20240110T110000
DTEND;TZID=UTC:20240110T140000
DTSTAMP:20260422T165800
CREATED:20240106T042821Z
LAST-MODIFIED:20240106T042821Z
UID:14646-1704884400-1704895200@bosd4.sbcounty.gov
SUMMARY:2024 Chino Valley Chamber of Commerce Job Fair
DESCRIPTION:The Chino Valley Chamber of Commerce is excited to host a Job Fair on January 10\, 2024\, from 11:00 -2:00 PM at the Chino Hills Community Center (14250 Peyton Dr.\, Chino Hils\, CA 91709). Invest in Your Future! \nJob Seekers & Exhibitors register for FREE!
URL:https://bosd4.sbcounty.gov/event/2024-chino-valley-chamber-of-commerce-job-fair/
LOCATION:Chino Hills Community Center\, 14250 Peyton Drive\, Chino Hills\, CA\, 91709\, United States
CATEGORIES:Chino Hills,Community Events
END:VEVENT
END:VCALENDAR