BEGIN:VCALENDAR
VERSION:2.0
PRODID:-//Curt Hagman Fourth District Supervisor - ECPv6.15.14//NONSGML v1.0//EN
CALSCALE:GREGORIAN
METHOD:PUBLISH
X-WR-CALNAME:Curt Hagman Fourth District Supervisor
X-ORIGINAL-URL:https://bosd4.sbcounty.gov
X-WR-CALDESC:Events for Curt Hagman Fourth District Supervisor
REFRESH-INTERVAL;VALUE=DURATION:PT1H
X-Robots-Tag:noindex
X-PUBLISHED-TTL:PT1H
BEGIN:VTIMEZONE
TZID:America/Los_Angeles
BEGIN:DAYLIGHT
TZOFFSETFROM:-0800
TZOFFSETTO:-0700
TZNAME:PDT
DTSTART:20230312T100000
END:DAYLIGHT
BEGIN:STANDARD
TZOFFSETFROM:-0700
TZOFFSETTO:-0800
TZNAME:PST
DTSTART:20231105T090000
END:STANDARD
BEGIN:DAYLIGHT
TZOFFSETFROM:-0800
TZOFFSETTO:-0700
TZNAME:PDT
DTSTART:20240310T100000
END:DAYLIGHT
BEGIN:STANDARD
TZOFFSETFROM:-0700
TZOFFSETTO:-0800
TZNAME:PST
DTSTART:20241103T090000
END:STANDARD
BEGIN:DAYLIGHT
TZOFFSETFROM:-0800
TZOFFSETTO:-0700
TZNAME:PDT
DTSTART:20250309T100000
END:DAYLIGHT
BEGIN:STANDARD
TZOFFSETFROM:-0700
TZOFFSETTO:-0800
TZNAME:PST
DTSTART:20251102T090000
END:STANDARD
END:VTIMEZONE
BEGIN:VEVENT
DTSTART;TZID=America/Los_Angeles:20240907T090000
DTEND;TZID=America/Los_Angeles:20240907T130000
DTSTAMP:20260422T030735
CREATED:20240814T153804Z
LAST-MODIFIED:20240814T153804Z
UID:17651-1725699600-1725714000@bosd4.sbcounty.gov
SUMMARY:Chino Cares Emergency Preparedness Fair
DESCRIPTION:The City of Chino\, Chino Police Department and the Chino Valley Fire District present the Chino Cares Emergency Preparedness Fair! \nThe Chino Cares Emergency Preparedness Fair is a family fun event focused on preparing the community for disasters. This opportunity provides the community with resources on how to be prepared for disasters and will include: \n\nEmergency Preparedness Informational Booths\nTouch-a-Truck\nEmergency Preparedness Demonstrations\nEmergency Supply Vendors\nGiveaways\n\nFor more information about the Chino Cares Emergency Preparedness Fair\, please visit cityofchino.org/ccpf. \n\n\n\nChino Cares Preparedness Fair Flyer Mandarin\nChino Cares Preparedness Fair Flyer Spanish\nChino Cares Preparedness Fair Flyer
URL:https://bosd4.sbcounty.gov/event/chino-cares-emergency-preparedness-fair/
LOCATION:Chino City Hall\, 13220 Central Ave.\, Chino\, CA\, 91710\, United States
CATEGORIES:Chino,Community Events
END:VEVENT
END:VCALENDAR