BEGIN:VCALENDAR
VERSION:2.0
PRODID:-//Curt Hagman Fourth District Supervisor - ECPv6.15.14//NONSGML v1.0//EN
CALSCALE:GREGORIAN
METHOD:PUBLISH
X-WR-CALNAME:Curt Hagman Fourth District Supervisor
X-ORIGINAL-URL:https://bosd4.sbcounty.gov
X-WR-CALDESC:Events for Curt Hagman Fourth District Supervisor
REFRESH-INTERVAL;VALUE=DURATION:PT1H
X-Robots-Tag:noindex
X-PUBLISHED-TTL:PT1H
BEGIN:VTIMEZONE
TZID:America/Los_Angeles
BEGIN:DAYLIGHT
TZOFFSETFROM:-0800
TZOFFSETTO:-0700
TZNAME:PDT
DTSTART:20250309T100000
END:DAYLIGHT
BEGIN:STANDARD
TZOFFSETFROM:-0700
TZOFFSETTO:-0800
TZNAME:PST
DTSTART:20251102T090000
END:STANDARD
BEGIN:DAYLIGHT
TZOFFSETFROM:-0800
TZOFFSETTO:-0700
TZNAME:PDT
DTSTART:20260308T100000
END:DAYLIGHT
BEGIN:STANDARD
TZOFFSETFROM:-0700
TZOFFSETTO:-0800
TZNAME:PST
DTSTART:20261101T090000
END:STANDARD
BEGIN:DAYLIGHT
TZOFFSETFROM:-0800
TZOFFSETTO:-0700
TZNAME:PDT
DTSTART:20270314T100000
END:DAYLIGHT
BEGIN:STANDARD
TZOFFSETFROM:-0700
TZOFFSETTO:-0800
TZNAME:PST
DTSTART:20271107T090000
END:STANDARD
END:VTIMEZONE
BEGIN:VEVENT
DTSTART;TZID=America/Los_Angeles:20260314T090000
DTEND;TZID=America/Los_Angeles:20260314T120000
DTSTAMP:20260423T042409
CREATED:20260217T233235Z
LAST-MODIFIED:20260306T233536Z
UID:10003393-1773478800-1773489600@bosd4.sbcounty.gov
SUMMARY:Montclair Shredding Event
DESCRIPTION:Ready to safely dispose of your old documents? I’ve partnered with the City of Montclair to bring you a FREE document shredding event! Join Team Hagman on Saturday\, March 14\, 2026\, from 9 am-12 pm at Montclair City Hall. \nDocuments will be destroyed on-site\, with a limit of 3 filing-size boxes per vehicle. (No CDs\, DVDs\, binders\, x-rays\, or plastics\, please.) Out-of-county residents will be turned away. \nMontclair City Hall\n5111 Benito Street\nMontclair\, CA 91763 \nRegister today at https://bit.ly/HagmanShred0326 \nLet’s keep our personal information safe and our community secure!
URL:https://bosd4.sbcounty.gov/event/montclair-shredding-event/
LOCATION:Montclair City Hall\, 5111 Benito Street\, Montclair\, CA\, 91763\, United States
CATEGORIES:Chino,Chino Hills,Community Events,Montclair,Ontario,Upland
ORGANIZER;CN="Supervisor Curt Hagman's Office":MAILTO:supervisor.hagman@bos.sbcounty.gov
END:VEVENT
END:VCALENDAR