BEGIN:VCALENDAR
VERSION:2.0
PRODID:-//Curt Hagman Fourth District Supervisor - ECPv6.15.14//NONSGML v1.0//EN
CALSCALE:GREGORIAN
METHOD:PUBLISH
X-WR-CALNAME:Curt Hagman Fourth District Supervisor
X-ORIGINAL-URL:https://bosd4.sbcounty.gov
X-WR-CALDESC:Events for Curt Hagman Fourth District Supervisor
REFRESH-INTERVAL;VALUE=DURATION:PT1H
X-Robots-Tag:noindex
X-PUBLISHED-TTL:PT1H
BEGIN:VTIMEZONE
TZID:UTC
BEGIN:STANDARD
TZOFFSETFROM:+0000
TZOFFSETTO:+0000
TZNAME:UTC
DTSTART:20230101T000000
END:STANDARD
END:VTIMEZONE
BEGIN:VEVENT
DTSTART;TZID=UTC:20240210T080000
DTEND;TZID=UTC:20240210T130000
DTSTAMP:20260420T063629
CREATED:20240209T063605Z
LAST-MODIFIED:20240209T063605Z
UID:10000983-1707552000-1707570000@bosd4.sbcounty.gov
SUMMARY:Household Hazardous Waste Collection
DESCRIPTION:In partnership with San Bernardino County Fire Protection District\, the City’s Household Hazardous Waste (HHW) Program provides residents of Chino and San Bernardino County with a safe and convenient way to dispose of common household chemicals free of charge. HHW Collection events are held every 2nd and 4th Saturday of the month from 8 am to 1 pm and closed on the 4th Saturday in December at the Public Works Service Yard. \nRegularly scheduled events are subject to change. \nDuring every visit\, participants are limited to dispose of 15 gallons or 125 pounds of hazardous materials in containers no larger than 5 gallons. Business waste and sharps are not accepted.
URL:https://bosd4.sbcounty.gov/event/household-hazardous-waste-collection-2/
LOCATION:Chino Public Works Service Yard\, 5050 Schaefer Ave.\, Chino\, CA\, 91710\, United States
CATEGORIES:Chino,Community Events
END:VEVENT
BEGIN:VEVENT
DTSTART;TZID=UTC:20240220T180000
DTEND;TZID=UTC:20240220T200000
DTSTAMP:20260420T063629
CREATED:20240209T071859Z
LAST-MODIFIED:20240209T072211Z
UID:10000989-1708452000-1708459200@bosd4.sbcounty.gov
SUMMARY:Chino City Council Meeting
DESCRIPTION:Meetings take place in the Chino City Hall Council Chambers. \nView agenda\, minutes\, and watch live.
URL:https://bosd4.sbcounty.gov/event/15341/
LOCATION:Chino City Hall\, 13220 Central Ave.\, Chino\, CA\, 91710\, United States
CATEGORIES:Chino,Community Events
END:VEVENT
BEGIN:VEVENT
DTSTART;TZID=UTC:20240224T080000
DTEND;TZID=UTC:20240224T130000
DTSTAMP:20260420T063629
CREATED:20240209T063750Z
LAST-MODIFIED:20240209T063750Z
UID:10000986-1708761600-1708779600@bosd4.sbcounty.gov
SUMMARY:Household Hazardous Waste Collection
DESCRIPTION:In partnership with San Bernardino County Fire Protection District\, the City’s Household Hazardous Waste (HHW) Program provides residents of Chino and San Bernardino County with a safe and convenient way to dispose of common household chemicals free of charge. HHW Collection events are held every 2nd and 4th Saturday of the month from 8 am to 1 pm and closed on the 4th Saturday in December at the Public Works Service Yard. \nRegularly scheduled events are subject to change. \nDuring every visit\, participants are limited to dispose of 15 gallons or 125 pounds of hazardous materials in containers no larger than 5 gallons. Business waste and sharps are not accepted.
URL:https://bosd4.sbcounty.gov/event/household-hazardous-waste-collection-3/
LOCATION:Chino Public Works Service Yard\, 5050 Schaefer Ave.\, Chino\, CA\, 91710\, United States
CATEGORIES:Chino,Community Events
END:VEVENT
BEGIN:VEVENT
DTSTART;TZID=UTC:20240227T180000
DTEND;TZID=UTC:20240227T180000
DTSTAMP:20260420T063629
CREATED:20240210T031436Z
LAST-MODIFIED:20240210T042446Z
UID:10001889-1709056800-1709056800@bosd4.sbcounty.gov
SUMMARY:Chino City Council Meeting
DESCRIPTION:Meetings will take place in the Chino Hills City Hall Council Chambers. \nView agenda\, minutes\, and/or watch the meetings live.
URL:https://bosd4.sbcounty.gov/event/chino-city-council-meeting-2/
LOCATION:Chino City Hall\, 13220 Central Ave.\, Chino\, CA\, 91710\, United States
CATEGORIES:Chino,Community Events
END:VEVENT
END:VCALENDAR