BEGIN:VCALENDAR
VERSION:2.0
PRODID:-//Curt Hagman Fourth District Supervisor - ECPv6.15.14//NONSGML v1.0//EN
CALSCALE:GREGORIAN
METHOD:PUBLISH
X-WR-CALNAME:Curt Hagman Fourth District Supervisor
X-ORIGINAL-URL:https://bosd4.sbcounty.gov
X-WR-CALDESC:Events for Curt Hagman Fourth District Supervisor
REFRESH-INTERVAL;VALUE=DURATION:PT1H
X-Robots-Tag:noindex
X-PUBLISHED-TTL:PT1H
BEGIN:VTIMEZONE
TZID:UTC
BEGIN:STANDARD
TZOFFSETFROM:+0000
TZOFFSETTO:+0000
TZNAME:UTC
DTSTART:20230101T000000
END:STANDARD
END:VTIMEZONE
BEGIN:VEVENT
DTSTART;TZID=UTC:20240305T180000
DTEND;TZID=UTC:20240305T200000
DTSTAMP:20260420T112408
CREATED:20240224T033137Z
LAST-MODIFIED:20240224T033137Z
UID:10001910-1709661600-1709668800@bosd4.sbcounty.gov
SUMMARY:Chino City Council Meeting
DESCRIPTION:Meetings will take place in the Chino City Hall Council Chambers. \nView agendas\, minutes\, and/or watch meetings live.
URL:https://bosd4.sbcounty.gov/event/chino-city-council-meeting-3/
LOCATION:Chino City Hall\, 13220 Central Ave.\, Chino\, CA\, 91710\, United States
CATEGORIES:Chino,Community Events
END:VEVENT
BEGIN:VEVENT
DTSTART;TZID=UTC:20240309T080000
DTEND;TZID=UTC:20240309T130000
DTSTAMP:20260420T112408
CREATED:20240224T031934Z
LAST-MODIFIED:20240224T031934Z
UID:10001898-1709971200-1709989200@bosd4.sbcounty.gov
SUMMARY:Household Hazardous Waste Collection
DESCRIPTION:In partnership with San Bernardino County Fire Protection District\, the City’s Household Hazardous Waste (HHW) Program provides residents of Chino and San Bernardino County with a safe and convenient way to dispose of common household chemicals free of charge. HHW Collection events are held every 2nd and 4th Saturday of the month from 8 am to 1 pm and closed on the 4th Saturday in December at the Public Works Service Yard. \nRegularly scheduled events are subject to change. \nDuring every visit\, participants are limited to dispose of 15 gallons or 125 pounds of hazardous materials in containers no larger than 5 gallons. Business waste and sharps are not accepted.
URL:https://bosd4.sbcounty.gov/event/household-hazardous-waste-collection-4/
LOCATION:Chino Public Works Service Yard\, 5050 Schaefer Ave.\, Chino\, CA\, 91710\, United States
CATEGORIES:Chino,Community Events
END:VEVENT
BEGIN:VEVENT
DTSTART;TZID=UTC:20240312T180000
DTEND;TZID=UTC:20240312T200000
DTSTAMP:20260420T112408
CREATED:20240224T054656Z
LAST-MODIFIED:20240224T054656Z
UID:10000998-1710266400-1710273600@bosd4.sbcounty.gov
SUMMARY:Chino Hills Council Meeting
DESCRIPTION:Meetings will take place in the Chino City Hall Chambers. \nView agendas\, minutes\, and/or watch meetings live.
URL:https://bosd4.sbcounty.gov/event/chino-hills-council-meeting/
LOCATION:Chino City Hall\, 13220 Central Ave.\, Chino\, CA\, 91710\, United States
CATEGORIES:Chino,Community Events
END:VEVENT
BEGIN:VEVENT
DTSTART;TZID=UTC:20240316T140000
DTEND;TZID=UTC:20240316T200000
DTSTAMP:20260420T112408
CREATED:20240224T032554Z
LAST-MODIFIED:20240224T032554Z
UID:10001904-1710597600-1710619200@bosd4.sbcounty.gov
SUMMARY:Chino Days
DESCRIPTION:The City of Chino invites you to the two-day event\, CHINO Days! This FREE family-friendly event celebrates our city’s culture by featuring Chino history\, cultural arts\, food\, live music\, and so much more! Bring the whole family to celebrate CHINO Days at the Civic Center\, and don’t forget your Chino pride! \n 
URL:https://bosd4.sbcounty.gov/event/chino-days/
LOCATION:Chino City Hall\, 13220 Central Ave.\, Chino\, CA\, 91710\, United States
CATEGORIES:Chino,Community Events
END:VEVENT
BEGIN:VEVENT
DTSTART;TZID=UTC:20240317T110000
DTEND;TZID=UTC:20240317T170000
DTSTAMP:20260420T112408
CREATED:20240224T032759Z
LAST-MODIFIED:20240224T032759Z
UID:10001907-1710673200-1710694800@bosd4.sbcounty.gov
SUMMARY:Chino Days
DESCRIPTION:The City of Chino invites you to the two-day event\, CHINO Days! This FREE family-friendly event celebrates our city’s culture by featuring Chino history\, cultural arts\, food\, live music\, and so much more! Bring the whole family to celebrate CHINO Days at the Civic Center\, and don’t forget your Chino pride!
URL:https://bosd4.sbcounty.gov/event/chino-days-2/
LOCATION:Chino City Hall\, 13220 Central Ave.\, Chino\, CA\, 91710\, United States
CATEGORIES:Chino,Community Events
END:VEVENT
BEGIN:VEVENT
DTSTART;TZID=UTC:20240319T180000
DTEND;TZID=UTC:20240319T200000
DTSTAMP:20260420T112408
CREATED:20240224T033359Z
LAST-MODIFIED:20240224T040334Z
UID:10001913-1710871200-1710878400@bosd4.sbcounty.gov
SUMMARY:Chino City Council Meeting
DESCRIPTION:Meetings will take place in the Chino City Hall Council Chambers. \nView agendas\, minutes\, and/or watch meetings live.
URL:https://bosd4.sbcounty.gov/event/chino-city-council-meeting-4/
LOCATION:Chino City Hall\, 13220 Central Ave.\, Chino\, CA\, 91710\, United States
CATEGORIES:Chino,Community Events
END:VEVENT
BEGIN:VEVENT
DTSTART;TZID=UTC:20240323T080000
DTEND;TZID=UTC:20240323T130000
DTSTAMP:20260420T112408
CREATED:20240224T032047Z
LAST-MODIFIED:20240224T032047Z
UID:10001901-1711180800-1711198800@bosd4.sbcounty.gov
SUMMARY:Household Hazardous Waste Collection
DESCRIPTION:In partnership with San Bernardino County Fire Protection District\, the City’s Household Hazardous Waste (HHW) Program provides residents of Chino and San Bernardino County with a safe and convenient way to dispose of common household chemicals free of charge. HHW Collection events are held every 2nd and 4th Saturday of the month from 8 am to 1 pm and closed on the 4th Saturday in December at the Public Works Service Yard. \nRegularly scheduled events are subject to change. \nDuring every visit\, participants are limited to dispose of 15 gallons or 125 pounds of hazardous materials in containers no larger than 5 gallons. Business waste and sharps are not accepted.
URL:https://bosd4.sbcounty.gov/event/household-hazardous-waste-collection-5/
LOCATION:Chino Public Works Service Yard\, 5050 Schaefer Ave.\, Chino\, CA\, 91710\, United States
CATEGORIES:Chino,Community Events
END:VEVENT
END:VCALENDAR