BEGIN:VCALENDAR
VERSION:2.0
PRODID:-//Curt Hagman Fourth District Supervisor - ECPv6.15.14//NONSGML v1.0//EN
CALSCALE:GREGORIAN
METHOD:PUBLISH
X-ORIGINAL-URL:https://bosd4.sbcounty.gov
X-WR-CALDESC:Events for Curt Hagman Fourth District Supervisor
REFRESH-INTERVAL;VALUE=DURATION:PT1H
X-Robots-Tag:noindex
X-PUBLISHED-TTL:PT1H
BEGIN:VTIMEZONE
TZID:America/Los_Angeles
BEGIN:DAYLIGHT
TZOFFSETFROM:-0800
TZOFFSETTO:-0700
TZNAME:PDT
DTSTART:20230312T100000
END:DAYLIGHT
BEGIN:STANDARD
TZOFFSETFROM:-0700
TZOFFSETTO:-0800
TZNAME:PST
DTSTART:20231105T090000
END:STANDARD
BEGIN:DAYLIGHT
TZOFFSETFROM:-0800
TZOFFSETTO:-0700
TZNAME:PDT
DTSTART:20240310T100000
END:DAYLIGHT
BEGIN:STANDARD
TZOFFSETFROM:-0700
TZOFFSETTO:-0800
TZNAME:PST
DTSTART:20241103T090000
END:STANDARD
BEGIN:DAYLIGHT
TZOFFSETFROM:-0800
TZOFFSETTO:-0700
TZNAME:PDT
DTSTART:20250309T100000
END:DAYLIGHT
BEGIN:STANDARD
TZOFFSETFROM:-0700
TZOFFSETTO:-0800
TZNAME:PST
DTSTART:20251102T090000
END:STANDARD
END:VTIMEZONE
BEGIN:VEVENT
DTSTART;TZID=America/Los_Angeles:20240406T100000
DTEND;TZID=America/Los_Angeles:20240406T140000
DTSTAMP:20260420T004252
CREATED:20240403T203514Z
LAST-MODIFIED:20240404T172449Z
UID:10001933-1712397600-1712412000@bosd4.sbcounty.gov
SUMMARY:Healthy Family Day
DESCRIPTION:Healthy Family Day\, presented by Healthy Chino and the Chino Valley YMCA\, is a family fun event focused on the promotion of health and wellness\, physical fitness\, and nutrition for the entire family. This event provides opportunities for your family to live a healthy lifestyle and features health\, fitness\, and nutrition information\, family fun competitions\, kids’ activity stations\, superhero meet and greet\, a photo booth\, and more.
URL:https://bosd4.sbcounty.gov/event/healthy-family-day/
LOCATION:Ruben S. Ayala Park\, 14225 Central Avenue\, Chino\, CA\, 91710\, United States
CATEGORIES:Chino,Community Events
ATTACH;FMTTYPE=image/png:https://bosd4.sbcounty.gov/wp-content/uploads/sites/102/2024/04/Chino-Logo.png
END:VEVENT
BEGIN:VEVENT
DTSTART;TZID=America/Los_Angeles:20240413T080000
DTEND;TZID=America/Los_Angeles:20240413T130000
DTSTAMP:20260420T004252
CREATED:20240403T203952Z
LAST-MODIFIED:20240404T172705Z
UID:10001936-1712995200-1713013200@bosd4.sbcounty.gov
SUMMARY:Household Hazardous Waste Collection
DESCRIPTION:In partnership with San Bernardino County Fire Protection District\, the City’s Household Hazardous Waste (HHW) Program provides residents of Chino and San Bernardino County with a safe and convenient way to dispose common household chemicals free of charge. HHW Collection events are held every 2nd and 4th Saturday of the month from 8 am to 1 pm and closed on the 4th Saturday in December at the Public Works Service Yard. \nRegularly scheduled events are subject to change. \nDuring every visit\, participants are limited to dispose 15 gallons or 125 pounds of hazardous materials in containers no larger than 5 gallons. Business waste and sharps are not accepted.
URL:https://bosd4.sbcounty.gov/event/household-hazardous-waste-collection-6/
LOCATION:Chino Public Works Service Yard\, 5050 Schaefer Ave.\, Chino\, CA\, 91710\, United States
CATEGORIES:Chino,Community Events
ATTACH;FMTTYPE=image/png:https://bosd4.sbcounty.gov/wp-content/uploads/sites/102/2024/04/Chino-Logo.png
END:VEVENT
BEGIN:VEVENT
DTSTART;TZID=America/Los_Angeles:20240416T180000
DTEND;TZID=America/Los_Angeles:20240416T200000
DTSTAMP:20260420T004252
CREATED:20240403T220219Z
LAST-MODIFIED:20240404T172728Z
UID:10001945-1713290400-1713297600@bosd4.sbcounty.gov
SUMMARY:Chino City Council Meeting
DESCRIPTION:Meetings will take place in the Chino City Hall Council Chambers. \nView agendas\, minutes\, and/or watch meetings live. 
URL:https://bosd4.sbcounty.gov/event/chino-city-council-meeting-6/
LOCATION:Chino City Hall\, 13220 Central Ave.\, Chino\, CA\, 91710\, United States
CATEGORIES:Chino,Community Events
ATTACH;FMTTYPE=image/png:https://bosd4.sbcounty.gov/wp-content/uploads/sites/102/2024/04/Chino-Logo.png
END:VEVENT
BEGIN:VEVENT
DTSTART;TZID=America/Los_Angeles:20240418T160000
DTEND;TZID=America/Los_Angeles:20240418T190000
DTSTAMP:20260420T004252
CREATED:20240403T210747Z
LAST-MODIFIED:20240404T172757Z
UID:10001939-1713456000-1713466800@bosd4.sbcounty.gov
SUMMARY:Community Earth Day
DESCRIPTION:The Inland Empire Utilities Agency and the City of Chino present Community Earth Day\, a FREE event taking place on April 18 from 4:00 pm – 7:00 pm at the Chino Creek Wetlands and Educational Park. Tour the park\, explore environmental exhibits\, and take part in educational activities. Don’t miss out on the animal encounters and community performances. Parking is available in LOT A (6075 Kimball Ave.) and LOT B (5975 El Prado Road). There is limited parking; carpooling is encouraged. \nFor more information\, please call the City of Chino Water and Environmental Division at 909-334-3282.
URL:https://bosd4.sbcounty.gov/event/community-earth-day/
LOCATION:Chino Creek Wetlands and Educational Park\, 6075 Kimball Ave.\, Chino\, CA\, 91710\, United States
CATEGORIES:Chino,Community Events
ATTACH;FMTTYPE=image/png:https://bosd4.sbcounty.gov/wp-content/uploads/sites/102/2024/04/Chino-Logo.png
END:VEVENT
BEGIN:VEVENT
DTSTART;TZID=America/Los_Angeles:20240427T080000
DTEND;TZID=America/Los_Angeles:20240427T130000
DTSTAMP:20260420T004252
CREATED:20240403T211355Z
LAST-MODIFIED:20240404T172849Z
UID:10001942-1714204800-1714222800@bosd4.sbcounty.gov
SUMMARY:Household Hazardous Waste Collection
DESCRIPTION:In partnership with San Bernardino County Fire Protection District\, the City’s Household Hazardous Waste (HHW) Program provides residents of Chino and San Bernardino County with a safe and convenient way to dispose common household chemicals free of charge. HHW Collection events are held every 2nd and 4th Saturday of the month from 8 am to 1 pm and closed on the 4th Saturday in December at the Public Works Service Yard. \nRegularly scheduled events are subject to change. \nDuring every visit\, participants are limited to dispose 15 gallons or 125 gallons of hazardous materials in containers no larger than 5 gallons. Business waste and sharps are not accepted.
URL:https://bosd4.sbcounty.gov/event/household-hazardous-waste-collection-7/
LOCATION:Chino Public Works Service Yard\, 5050 Schaefer Ave.\, Chino\, CA\, 91710\, United States
CATEGORIES:Chino,Community Events
ATTACH;FMTTYPE=image/png:https://bosd4.sbcounty.gov/wp-content/uploads/sites/102/2024/04/Chino-Logo.png
END:VEVENT
END:VCALENDAR