BEGIN:VCALENDAR
VERSION:2.0
PRODID:-//Curt Hagman Fourth District Supervisor - ECPv6.15.14//NONSGML v1.0//EN
CALSCALE:GREGORIAN
METHOD:PUBLISH
X-WR-CALNAME:Curt Hagman Fourth District Supervisor
X-ORIGINAL-URL:https://bosd4.sbcounty.gov
X-WR-CALDESC:Events for Curt Hagman Fourth District Supervisor
REFRESH-INTERVAL;VALUE=DURATION:PT1H
X-Robots-Tag:noindex
X-PUBLISHED-TTL:PT1H
BEGIN:VTIMEZONE
TZID:America/Los_Angeles
BEGIN:DAYLIGHT
TZOFFSETFROM:-0800
TZOFFSETTO:-0700
TZNAME:PDT
DTSTART:20230312T100000
END:DAYLIGHT
BEGIN:STANDARD
TZOFFSETFROM:-0700
TZOFFSETTO:-0800
TZNAME:PST
DTSTART:20231105T090000
END:STANDARD
BEGIN:DAYLIGHT
TZOFFSETFROM:-0800
TZOFFSETTO:-0700
TZNAME:PDT
DTSTART:20240310T100000
END:DAYLIGHT
BEGIN:STANDARD
TZOFFSETFROM:-0700
TZOFFSETTO:-0800
TZNAME:PST
DTSTART:20241103T090000
END:STANDARD
BEGIN:DAYLIGHT
TZOFFSETFROM:-0800
TZOFFSETTO:-0700
TZNAME:PDT
DTSTART:20250309T100000
END:DAYLIGHT
BEGIN:STANDARD
TZOFFSETFROM:-0700
TZOFFSETTO:-0800
TZNAME:PST
DTSTART:20251102T090000
END:STANDARD
END:VTIMEZONE
BEGIN:VEVENT
DTSTART;TZID=America/Los_Angeles:20240507T180000
DTEND;TZID=America/Los_Angeles:20240507T210000
DTSTAMP:20260419T193317
CREATED:20240425T220613Z
LAST-MODIFIED:20240425T220613Z
UID:10002000-1715104800-1715115600@bosd4.sbcounty.gov
SUMMARY:Chino City Council Meeting
DESCRIPTION:Meetings take place in the City of Chino City Hall Council Chambers. \nView Agendas\, Minutes\, and/or Watch Meetings Live.
URL:https://bosd4.sbcounty.gov/event/chino-city-council-meeting-7/
LOCATION:Chino City Hall\, 13220 Central Ave.\, Chino\, CA\, 91710\, United States
CATEGORIES:Chino,Community Events
ATTACH;FMTTYPE=image/png:https://bosd4.sbcounty.gov/wp-content/uploads/sites/102/2024/04/Chino-Logo.png
END:VEVENT
BEGIN:VEVENT
DTSTART;TZID=America/Los_Angeles:20240511T073000
DTEND;TZID=America/Los_Angeles:20240511T110000
DTSTAMP:20260419T193317
CREATED:20240425T200249Z
LAST-MODIFIED:20240425T200249Z
UID:10001982-1715412600-1715425200@bosd4.sbcounty.gov
SUMMARY:Chino Bike Day
DESCRIPTION:Come out and join us for a morning ride on your bicycle. All participants must wear a helmet when participating in the Community Bike Ride. Refreshments available for those participating in the bike rides. \nActivities: \n\nCommunity Bike Ride\nFamily Bike Ride\nHelmet Fittings and Giveaways*\nRaffles\, Obstacle Courses\, and more!\n\n*A limited number of helmets will be available while supplies last. \nFor more information\, please contact the Carolyn Owens Community Center at 909-334-3258.
URL:https://bosd4.sbcounty.gov/event/chino-bike-day/
LOCATION:Ruben S. Ayala Park\, 14225 Central Avenue\, Chino\, CA\, 91710\, United States
CATEGORIES:Chino,Community Events
ATTACH;FMTTYPE=image/png:https://bosd4.sbcounty.gov/wp-content/uploads/sites/102/2024/04/Chino-Logo.png
END:VEVENT
BEGIN:VEVENT
DTSTART;TZID=America/Los_Angeles:20240511T080000
DTEND;TZID=America/Los_Angeles:20240511T130000
DTSTAMP:20260419T193317
CREATED:20240425T211051Z
LAST-MODIFIED:20240425T211105Z
UID:10001985-1715414400-1715432400@bosd4.sbcounty.gov
SUMMARY:Household Hazardous Waste Collection
DESCRIPTION:In partnership with the San Bernardino County Fire Protection District\, the City’s Household Hazardous Waste (HHW) Program provides residents of Chino and San Bernardino County with a safe and convenient way to dispose of common household chemicals free of charge. HHW Collection events are held every 2nd and 4th Saturday of the month from 8 am to 1 pm and closed on the 4th Saturday in December at the Public Works Service Yard. \nRegularly scheduled events are subject to change. \nDuring every visit\, participants are limited to disposing of 15 gallons or 125 pounds of hazardous materials in containers no larger than 5 gallons. Business waste and sharps are not accepted.
URL:https://bosd4.sbcounty.gov/event/household-hazardous-waste-collection-8/
LOCATION:Chino Public Works Service Yard\, 5050 Schaefer Ave.\, Chino\, CA\, 91710\, United States
CATEGORIES:Chino,Community Events
ATTACH;FMTTYPE=image/png:https://bosd4.sbcounty.gov/wp-content/uploads/sites/102/2024/04/Chino-Logo.png
END:VEVENT
BEGIN:VEVENT
DTSTART;TZID=America/Los_Angeles:20240519T110000
DTEND;TZID=America/Los_Angeles:20240519T140000
DTSTAMP:20260419T193317
CREATED:20240425T211845Z
LAST-MODIFIED:20240425T212107Z
UID:10001988-1716116400-1716127200@bosd4.sbcounty.gov
SUMMARY:Pioneer Picnic
DESCRIPTION:Chino Valley Historical Society & City of Chino invite you to celebrate Chino’s Pioneer Heritage at the 96th Annual Pioneer Picnic on Sunday\, May 19\, 2024\, at the Chino Community Building\, 5443 B Street in Chino. \nThis is a potluck-style event\, please bring your favorite entree\, side dish\, or dessert to share\, along with your own plates and utensils.
URL:https://bosd4.sbcounty.gov/event/pioneer-picnic/
LOCATION:Chino Community Building\, 5443 B Street\, Chino\, CA\, 91710\, United States
CATEGORIES:Chino,Community Events
ATTACH;FMTTYPE=image/png:https://bosd4.sbcounty.gov/wp-content/uploads/sites/102/2024/04/Chino-Logo.png
END:VEVENT
BEGIN:VEVENT
DTSTART;TZID=America/Los_Angeles:20240520T171500
DTEND;TZID=America/Los_Angeles:20240520T214500
DTSTAMP:20260419T193317
CREATED:20240425T214819Z
LAST-MODIFIED:20240425T214933Z
UID:10001991-1716225300-1716241500@bosd4.sbcounty.gov
SUMMARY:Chino Youth Museum Spring Bingo Bash
DESCRIPTION:It is time for Spring Bingo Bash! Come join us as we play Bingo for the opportunity to support the Chino Youth Museum and win prizes! Registration included dinner and 10 bingo games. This is a non-refundable event. Event will be held at the Chino Fairgrounds-Brinderson Hall\, 5410 Edison Avenue. Doors open at 5:15 p.m.\, and games begin at 6:30 p.m.
URL:https://bosd4.sbcounty.gov/event/chino-youth-museum-spring-bingo-bash/
LOCATION:Chino Fairgrounds – Brinderson Hall\, 5410 Edison Avenue\, Chino\, CA\, 91710\, United States
CATEGORIES:Chino,Community Events
ATTACH;FMTTYPE=image/png:https://bosd4.sbcounty.gov/wp-content/uploads/sites/102/2024/04/Chino-Logo.png
END:VEVENT
BEGIN:VEVENT
DTSTART;TZID=America/Los_Angeles:20240521T180000
DTEND;TZID=America/Los_Angeles:20240521T210000
DTSTAMP:20260419T193317
CREATED:20240425T220853Z
LAST-MODIFIED:20240425T220853Z
UID:10002003-1716314400-1716325200@bosd4.sbcounty.gov
SUMMARY:Chino City Council Meeting
DESCRIPTION:Meetings take place in the City of Chino City Hall Council Chambers. \nView Agenda\, Minutes\, and/or Watch Meetings Live.
URL:https://bosd4.sbcounty.gov/event/chino-city-council-meeting-8/
LOCATION:Chino City Hall\, 13220 Central Ave.\, Chino\, CA\, 91710\, United States
CATEGORIES:Chino,Community Events
ATTACH;FMTTYPE=image/png:https://bosd4.sbcounty.gov/wp-content/uploads/sites/102/2024/04/Chino-Logo.png
END:VEVENT
BEGIN:VEVENT
DTSTART;TZID=America/Los_Angeles:20240525T080000
DTEND;TZID=America/Los_Angeles:20240525T130000
DTSTAMP:20260419T193317
CREATED:20240425T215105Z
LAST-MODIFIED:20240425T215105Z
UID:10001994-1716624000-1716642000@bosd4.sbcounty.gov
SUMMARY:Household Hazardous Waste Collection
DESCRIPTION:In partnership with the San Bernardino County Fire Protection District\, the City’s Household Hazardous Waste (HHW) Program provides residents of Chino and San Bernardino County with a safe and convenient way to dispose of common household chemicals free of charge. HHW Collection events are held every 2nd and 4th Saturday of the month from 8 am to 1 pm and closed on the 4th Saturday in December at the Public Works Service Yard. \nRegularly scheduled events are subject to change. \nDuring every visit\, participants are limited to disposing 15 gallons or 125 pounds of hazardous materials in containers no larger than 5 gallons. Business waste and sharps are not accepted.
URL:https://bosd4.sbcounty.gov/event/household-hazardous-waste-collection-9/
LOCATION:Chino Public Works Service Yard\, 5050 Schaefer Ave.\, Chino\, CA\, 91710\, United States
CATEGORIES:Chino,Community Events
ATTACH;FMTTYPE=image/png:https://bosd4.sbcounty.gov/wp-content/uploads/sites/102/2024/04/Chino-Logo.png
END:VEVENT
BEGIN:VEVENT
DTSTART;TZID=America/Los_Angeles:20240527T100000
DTEND;TZID=America/Los_Angeles:20240527T110000
DTSTAMP:20260419T193317
CREATED:20240425T215200Z
LAST-MODIFIED:20240425T215200Z
UID:10001997-1716804000-1716807600@bosd4.sbcounty.gov
SUMMARY:Memorial Day Service
DESCRIPTION:
URL:https://bosd4.sbcounty.gov/event/memorial-day-service/
LOCATION:Chino Community Building\, 5443 B Street\, Chino\, CA\, 91710\, United States
CATEGORIES:Chino,Community Events
ATTACH;FMTTYPE=image/png:https://bosd4.sbcounty.gov/wp-content/uploads/sites/102/2024/04/Chino-Logo.png
END:VEVENT
END:VCALENDAR