BEGIN:VCALENDAR
VERSION:2.0
PRODID:-//Curt Hagman Fourth District Supervisor - ECPv6.15.14//NONSGML v1.0//EN
CALSCALE:GREGORIAN
METHOD:PUBLISH
X-ORIGINAL-URL:https://bosd4.sbcounty.gov
X-WR-CALDESC:Events for Curt Hagman Fourth District Supervisor
REFRESH-INTERVAL;VALUE=DURATION:PT1H
X-Robots-Tag:noindex
X-PUBLISHED-TTL:PT1H
BEGIN:VTIMEZONE
TZID:UTC
BEGIN:STANDARD
TZOFFSETFROM:+0000
TZOFFSETTO:+0000
TZNAME:UTC
DTSTART:20230101T000000
END:STANDARD
END:VTIMEZONE
BEGIN:VEVENT
DTSTART;TZID=UTC:20240108T180000
DTEND;TZID=UTC:20240108T210000
DTSTAMP:20260420T164442
CREATED:20240105T051209Z
LAST-MODIFIED:20240105T051214Z
UID:10001712-1704736800-1704747600@bosd4.sbcounty.gov
SUMMARY:Measure V Presentation
DESCRIPTION:The City of Chino invites residents to an informative public presentation on the upcoming tax initiative\, Measure V. This measure aims to address critical infrastructure needs\, enhance public services\, and ensure the city’s long-term financial stability. Join city officials and community members in a detailed discussion about the objectives of Measure V for our community. Engage with experts\, ask questions\, and learn how this measure will impact you and the city’s future. \nFor more in-depth information\, please visit www.cityofchino.org/measurev.
URL:https://bosd4.sbcounty.gov/event/measure-v-presentation/
LOCATION:Chino Police Department\, 5450 Guardian Way\, Chino\, CA\, 91710\, United States
CATEGORIES:Chino,Community Events
END:VEVENT
END:VCALENDAR