BEGIN:VCALENDAR
VERSION:2.0
PRODID:-//Curt Hagman Fourth District Supervisor - ECPv6.15.14//NONSGML v1.0//EN
CALSCALE:GREGORIAN
METHOD:PUBLISH
X-ORIGINAL-URL:https://bosd4.sbcounty.gov
X-WR-CALDESC:Events for Curt Hagman Fourth District Supervisor
REFRESH-INTERVAL;VALUE=DURATION:PT1H
X-Robots-Tag:noindex
X-PUBLISHED-TTL:PT1H
BEGIN:VTIMEZONE
TZID:UTC
BEGIN:STANDARD
TZOFFSETFROM:+0000
TZOFFSETTO:+0000
TZNAME:UTC
DTSTART:20230101T000000
END:STANDARD
END:VTIMEZONE
BEGIN:VEVENT
DTSTART;TZID=UTC:20240127T080000
DTEND;TZID=UTC:20240127T130000
DTSTAMP:20260420T113132
CREATED:20240105T062249Z
LAST-MODIFIED:20240105T062249Z
UID:10001697-1706342400-1706360400@bosd4.sbcounty.gov
SUMMARY:Household Hazardous Waste Collection
DESCRIPTION:In partnership with San Bernardino County Fire Protection District\, the City’s Household Hazardous Waste (HHW) Program provides residents of Chino and San Bernardino County with a safe and convenient way to dispose of common household chemicals free of charge. HHW Collection events are held every 2nd and 4th Saturday of the month from 8 am to 1 pm and closed on the 4th Saturday in December at the Public Works Service Yard. \nRegularly scheduled events are subject to change. \nDuring every visit\, participants are limited to dispose of 15 gallons or 125 pounds of hazardous materials in containers no larger than 5 gallons. Business waste and sharps are not accepted.
URL:https://bosd4.sbcounty.gov/event/household-hazardous-waste-collection/
LOCATION:Chino Public Works Service Yard\, 5050 Schaefer Ave.\, Chino\, CA\, 91710\, United States
CATEGORIES:Chino,Community Events
END:VEVENT
BEGIN:VEVENT
DTSTART;TZID=UTC:20240127T100000
DTEND;TZID=UTC:20240127T140000
DTSTAMP:20260420T113132
CREATED:20240105T062934Z
LAST-MODIFIED:20240105T062934Z
UID:10001694-1706349600-1706364000@bosd4.sbcounty.gov
SUMMARY:Chilly Chino
DESCRIPTION:Step into a magical winter wonderland at Chilly Chino Snow Day taking place on January 27th from 10 a.m. to 2 p.m. at the Ayala Park Operations Center. Embrace the joy of the winter season as you and your family indulge in a snow day filled with delightful activities and winter fun. \nRegistration is now open! Click HERE to register.
URL:https://bosd4.sbcounty.gov/event/chilly-chino/
LOCATION:Ayala Park Operation Center\, 14225 Central Ave.\, Chino\, CA\, 91710\, United States
CATEGORIES:Chino,Community Events
END:VEVENT
END:VCALENDAR