BEGIN:VCALENDAR
VERSION:2.0
PRODID:-//Curt Hagman Fourth District Supervisor - ECPv6.15.14//NONSGML v1.0//EN
CALSCALE:GREGORIAN
METHOD:PUBLISH
X-WR-CALNAME:Curt Hagman Fourth District Supervisor
X-ORIGINAL-URL:https://bosd4.sbcounty.gov
X-WR-CALDESC:Events for Curt Hagman Fourth District Supervisor
REFRESH-INTERVAL;VALUE=DURATION:PT1H
X-Robots-Tag:noindex
X-PUBLISHED-TTL:PT1H
BEGIN:VTIMEZONE
TZID:America/Los_Angeles
BEGIN:DAYLIGHT
TZOFFSETFROM:-0800
TZOFFSETTO:-0700
TZNAME:PDT
DTSTART:20230312T100000
END:DAYLIGHT
BEGIN:STANDARD
TZOFFSETFROM:-0700
TZOFFSETTO:-0800
TZNAME:PST
DTSTART:20231105T090000
END:STANDARD
BEGIN:DAYLIGHT
TZOFFSETFROM:-0800
TZOFFSETTO:-0700
TZNAME:PDT
DTSTART:20240310T100000
END:DAYLIGHT
BEGIN:STANDARD
TZOFFSETFROM:-0700
TZOFFSETTO:-0800
TZNAME:PST
DTSTART:20241103T090000
END:STANDARD
BEGIN:DAYLIGHT
TZOFFSETFROM:-0800
TZOFFSETTO:-0700
TZNAME:PDT
DTSTART:20250309T100000
END:DAYLIGHT
BEGIN:STANDARD
TZOFFSETFROM:-0700
TZOFFSETTO:-0800
TZNAME:PST
DTSTART:20251102T090000
END:STANDARD
END:VTIMEZONE
BEGIN:VEVENT
DTSTART;TZID=America/Los_Angeles:20240713T080000
DTEND;TZID=America/Los_Angeles:20240713T130000
DTSTAMP:20260420T195407
CREATED:20240709T220326Z
LAST-MODIFIED:20240709T220326Z
UID:10002066-1720857600-1720875600@bosd4.sbcounty.gov
SUMMARY:Household Hazardous Waste Collection
DESCRIPTION:In partnership with the San Bernardino County Fire Protection District\, the City’s Household Hazardous Waste (HHW) Program provides residents of Chino and San Bernardino County with a safe and convenient way to dispose of common household chemicals free of charge. HHW Collection events are held every 2nd and 4th Saturday of the month from 8 am to 1 pm and closed on the 4th Saturday in December at the Public Works Service Yard. \nRegularly scheduled events are subject to change. \nDuring every visit\, participants are limited to disposing 15 gallons or 125 pounds of hazardous materials in containers no larger than 5 gallons. Business waste and sharps are not accepted.
URL:https://bosd4.sbcounty.gov/event/household-hazardous-waste-collection-10/
LOCATION:Chino Public Works Service Yard\, 5050 Schaefer Ave.\, Chino\, CA\, 91710\, United States
CATEGORIES:Chino,Community Events
ATTACH;FMTTYPE=image/png:https://bosd4.sbcounty.gov/wp-content/uploads/sites/102/2024/04/Chino-Logo.png
END:VEVENT
BEGIN:VEVENT
DTSTART;TZID=America/Los_Angeles:20240713T150000
DTEND;TZID=America/Los_Angeles:20240714T110000
DTSTAMP:20260420T195407
CREATED:20240709T220834Z
LAST-MODIFIED:20240709T220834Z
UID:10002072-1720882800-1720954800@bosd4.sbcounty.gov
SUMMARY:Family Campout at Ayala Park
DESCRIPTION:The City of Chino invites you to the annual overnight campout at Ruben S. Ayala Park. Come enjoy games and activities followed by a movie under the stars. Dinner and breakfast will be provided. Movie will begin at dusk. Participants must provide their own tents and sleeping bags and camp spaces are limited to 6 people max. Space is limited\, please register early. \nDates/Times: 3:00 pm Saturday\, July 14 to 11:00 am Sunday\, July 14 \nRegistration available here. \nResident Fee: $70 per family of 4 \nNon-Resident Fee: $85 per family of 4 \nAdditional: $10 per additional persons\, maximum of 6 per campsite \nFor more information\, please call the Ayala Park Operations Center at 909.334.3257
URL:https://bosd4.sbcounty.gov/event/family-campout-at-ayala-park/
LOCATION:Ruben S. Ayala Park\, 14225 Central Ave.\, Chino\, CA\, 91710\, United States
CATEGORIES:Chino,Community Events
END:VEVENT
END:VCALENDAR