BEGIN:VCALENDAR
VERSION:2.0
PRODID:-//Curt Hagman Fourth District Supervisor - ECPv6.15.14//NONSGML v1.0//EN
CALSCALE:GREGORIAN
METHOD:PUBLISH
X-WR-CALNAME:Curt Hagman Fourth District Supervisor
X-ORIGINAL-URL:https://bosd4.sbcounty.gov
X-WR-CALDESC:Events for Curt Hagman Fourth District Supervisor
REFRESH-INTERVAL;VALUE=DURATION:PT1H
X-Robots-Tag:noindex
X-PUBLISHED-TTL:PT1H
BEGIN:VTIMEZONE
TZID:America/Los_Angeles
BEGIN:DAYLIGHT
TZOFFSETFROM:-0800
TZOFFSETTO:-0700
TZNAME:PDT
DTSTART:20250309T100000
END:DAYLIGHT
BEGIN:STANDARD
TZOFFSETFROM:-0700
TZOFFSETTO:-0800
TZNAME:PST
DTSTART:20251102T090000
END:STANDARD
BEGIN:DAYLIGHT
TZOFFSETFROM:-0800
TZOFFSETTO:-0700
TZNAME:PDT
DTSTART:20260308T100000
END:DAYLIGHT
BEGIN:STANDARD
TZOFFSETFROM:-0700
TZOFFSETTO:-0800
TZNAME:PST
DTSTART:20261101T090000
END:STANDARD
BEGIN:DAYLIGHT
TZOFFSETFROM:-0800
TZOFFSETTO:-0700
TZNAME:PDT
DTSTART:20270314T100000
END:DAYLIGHT
BEGIN:STANDARD
TZOFFSETFROM:-0700
TZOFFSETTO:-0800
TZNAME:PST
DTSTART:20271107T090000
END:STANDARD
END:VTIMEZONE
BEGIN:VEVENT
DTSTART;TZID=America/Los_Angeles:20260420T190000
DTEND;TZID=America/Los_Angeles:20260420T210000
DTSTAMP:20260420T191716
CREATED:20260109T234034Z
LAST-MODIFIED:20260109T234034Z
UID:10003268-1776711600-1776718800@bosd4.sbcounty.gov
SUMMARY:Montclair Council Meeting
DESCRIPTION:Meetings will take place in the City of Montclair Council Chambers. \nView Agendas\, Minutes\, and/or Watch Meetings Live.
URL:https://bosd4.sbcounty.gov/event/montclair-council-meeting-30/
LOCATION:Montclair City Hall\, 5111 Benito Street\, Montclair\, CA\, 91763\, United States
CATEGORIES:Community Events,Montclair
ATTACH;FMTTYPE=image/png:https://bosd4.sbcounty.gov/wp-content/uploads/sites/102/2024/04/Montclair-Logo.png
END:VEVENT
BEGIN:VEVENT
DTSTART;TZID=America/Los_Angeles:20260421T180000
DTEND;TZID=America/Los_Angeles:20260421T210000
DTSTAMP:20260420T191716
CREATED:20260109T230424Z
LAST-MODIFIED:20260109T230424Z
UID:10003076-1776794400-1776805200@bosd4.sbcounty.gov
SUMMARY:Chino City Council Meeting
DESCRIPTION:Meetings take place in the City of Chino City Hall Council Chambers. \nView Agenda\, Minutes\, and/or Watch Meetings Live.
URL:https://bosd4.sbcounty.gov/event/chino-city-council-meeting-43/
LOCATION:Chino City Hall\, 13220 Central Ave.\, Chino\, CA\, 91710\, United States
CATEGORIES:Chino,Community Events
ATTACH;FMTTYPE=image/png:https://bosd4.sbcounty.gov/wp-content/uploads/sites/102/2024/04/Chino-Logo.png
END:VEVENT
BEGIN:VEVENT
DTSTART;TZID=America/Los_Angeles:20260421T183000
DTEND;TZID=America/Los_Angeles:20260421T213000
DTSTAMP:20260420T191716
CREATED:20260109T234903Z
LAST-MODIFIED:20260109T234903Z
UID:10003343-1776796200-1776807000@bosd4.sbcounty.gov
SUMMARY:Ontario City Council Meeting
DESCRIPTION:Meetings take place in the City of Ontario Council Chambers. \nView Agenda\, Minutes\, and/or Watch Meetings Live. 
URL:https://bosd4.sbcounty.gov/event/ontario-city-council-meeting-46/
LOCATION:Ontario City Hall Council Chambers\, 303 East B Street\, Ontario\, CA\, 91764\, United States
CATEGORIES:Community Events,Ontario
ATTACH;FMTTYPE=image/png:https://bosd4.sbcounty.gov/wp-content/uploads/sites/102/2024/04/City-of-Ontario-Logo_lightbg.png
END:VEVENT
BEGIN:VEVENT
DTSTART;TZID=America/Los_Angeles:20260425T080000
DTEND;TZID=America/Los_Angeles:20260425T130000
DTSTAMP:20260420T191716
CREATED:20260109T231046Z
LAST-MODIFIED:20260109T231046Z
UID:10003142-1777104000-1777122000@bosd4.sbcounty.gov
SUMMARY:Household Hazardous Waste Collection
DESCRIPTION:In partnership with the San Bernardino County Fire Protection District\, the City’s Household Hazardous Waste (HHW) Program provides residents of Chino and San Bernardino County with a safe and convenient way to dispose of common household chemicals free of charge. HHW Collection events are held every 2nd and 4th Saturday of the month from 8 am to 1 pm and closed on the 4th Saturday in December at the Public Works Service Yard. \nRegularly scheduled events are subject to change. \nDuring every visit\, participants are limited to disposing 15 gallons or 125 pounds of hazardous materials in containers no larger than 5 gallons. Business waste and sharps are not accepted.
URL:https://bosd4.sbcounty.gov/event/household-hazardous-waste-collection-34/
LOCATION:Chino Public Works Service Yard\, 5050 Schaefer Ave.\, Chino\, CA\, 91710\, United States
CATEGORIES:Chino,Community Events
ATTACH;FMTTYPE=image/png:https://bosd4.sbcounty.gov/wp-content/uploads/sites/102/2024/04/Chino-Logo.png
END:VEVENT
BEGIN:VEVENT
DTSTART;TZID=America/Los_Angeles:20260426T100000
DTEND;TZID=America/Los_Angeles:20260426T140000
DTSTAMP:20260420T191716
CREATED:20260408T232541Z
LAST-MODIFIED:20260413T181931Z
UID:10003395-1777197600-1777212000@bosd4.sbcounty.gov
SUMMARY:Montclair Low-Cost Spay\, Neuter and Vaccine Clinic
DESCRIPTION:My office has partnered with The PAW Mission and the City of Montclair to host a low-cost spay\, neuter\, and vaccine clinic in the Fourth District (Chino\, Chino Hills\, Montclair\, Ontario\, and Upland) on Sunday\, April 26\, 2026. \nAlma Hofman Park\n5201 Benito St.\nMontclair\, CA 91763 \nDuring the event\, spay and neuter services will be just $50\, and vaccines will be available for $15 from 10 am – 2 pm. This is a great opportunity to keep your pets healthy and help reduce pet overpopulation. \n\nSpots are limited for spay and neuter services.\nProof of address (ID or Utility Bill) is required at check-in.\nOwners MUST be present at drop-off\nStandby is available for no-show slots (no guarantee for a slot)\n\nRegistration will go live on Wednesday\, April 15\, at 12 PM\, so be sure to mark your calendar.
URL:https://bosd4.sbcounty.gov/event/montclair-low-cost-spay-neuter-and-vaccine-clinic/
LOCATION:Alma Hofman Park\, 5201 Benito Street\, Montclair\, CA\, 91763\, United States
CATEGORIES:Chino,Chino Hills,Community Events,Montclair,Ontario,Upland
ATTACH;FMTTYPE=image/jpeg:https://bosd4.sbcounty.gov/wp-content/uploads/sites/102/Montclair-SMS-Graphic-1.jpg
ORGANIZER;CN="Supervisor Curt Hagman's Office":MAILTO:supervisor.hagman@bos.sbcounty.gov
END:VEVENT
BEGIN:VEVENT
DTSTART;TZID=America/Los_Angeles:20260428T180000
DTEND;TZID=America/Los_Angeles:20260428T210000
DTSTAMP:20260420T191716
CREATED:20260109T233427Z
LAST-MODIFIED:20260109T233427Z
UID:10003199-1777399200-1777410000@bosd4.sbcounty.gov
SUMMARY:Chino Hills Council Meeting
DESCRIPTION:Meetings take place in the City of Chino Hills Council Chambers. \nView Agendas\, Minutes\, and/or Watch Meetings Live. 
URL:https://bosd4.sbcounty.gov/event/chino-hills-council-meeting-43/
LOCATION:Chino Hills Government Center\, 14000 City Center Drive\, Chino Hills\, CA\, 91709\, United States
CATEGORIES:Chino Hills,Community Events
ATTACH;FMTTYPE=image/png:https://bosd4.sbcounty.gov/wp-content/uploads/sites/102/2024/04/Chino-Hills-Logo-1.png
END:VEVENT
BEGIN:VEVENT
DTSTART;TZID=America/Los_Angeles:20260504T190000
DTEND;TZID=America/Los_Angeles:20260504T210000
DTSTAMP:20260420T191716
CREATED:20260109T234053Z
LAST-MODIFIED:20260109T234053Z
UID:10003271-1777921200-1777928400@bosd4.sbcounty.gov
SUMMARY:Montclair Council Meeting
DESCRIPTION:Meetings will take place in the City of Montclair Council Chambers. \nView Agendas\, Minutes\, and/or Watch Meetings Live.
URL:https://bosd4.sbcounty.gov/event/montclair-council-meeting-31/
LOCATION:Montclair City Hall\, 5111 Benito Street\, Montclair\, CA\, 91763\, United States
CATEGORIES:Community Events,Montclair
ATTACH;FMTTYPE=image/png:https://bosd4.sbcounty.gov/wp-content/uploads/sites/102/2024/04/Montclair-Logo.png
END:VEVENT
BEGIN:VEVENT
DTSTART;TZID=America/Los_Angeles:20260505T180000
DTEND;TZID=America/Los_Angeles:20260505T210000
DTSTAMP:20260420T191716
CREATED:20260109T230437Z
LAST-MODIFIED:20260109T230437Z
UID:10003079-1778004000-1778014800@bosd4.sbcounty.gov
SUMMARY:Chino City Council Meeting
DESCRIPTION:Meetings take place in the City of Chino City Hall Council Chambers. \nView Agenda\, Minutes\, and/or Watch Meetings Live.
URL:https://bosd4.sbcounty.gov/event/chino-city-council-meeting-44/
LOCATION:Chino City Hall\, 13220 Central Ave.\, Chino\, CA\, 91710\, United States
CATEGORIES:Chino,Community Events
ATTACH;FMTTYPE=image/png:https://bosd4.sbcounty.gov/wp-content/uploads/sites/102/2024/04/Chino-Logo.png
END:VEVENT
BEGIN:VEVENT
DTSTART;TZID=America/Los_Angeles:20260505T183000
DTEND;TZID=America/Los_Angeles:20260505T213000
DTSTAMP:20260420T191716
CREATED:20260109T234916Z
LAST-MODIFIED:20260109T234916Z
UID:10003346-1778005800-1778016600@bosd4.sbcounty.gov
SUMMARY:Ontario City Council Meeting
DESCRIPTION:Meetings take place in the City of Ontario Council Chambers. \nView Agenda\, Minutes\, and/or Watch Meetings Live. 
URL:https://bosd4.sbcounty.gov/event/ontario-city-council-meeting-47/
LOCATION:Ontario City Hall Council Chambers\, 303 East B Street\, Ontario\, CA\, 91764\, United States
CATEGORIES:Community Events,Ontario
ATTACH;FMTTYPE=image/png:https://bosd4.sbcounty.gov/wp-content/uploads/sites/102/2024/04/City-of-Ontario-Logo_lightbg.png
END:VEVENT
BEGIN:VEVENT
DTSTART;TZID=America/Los_Angeles:20260509T080000
DTEND;TZID=America/Los_Angeles:20260509T130000
DTSTAMP:20260420T191716
CREATED:20260109T231058Z
LAST-MODIFIED:20260109T231058Z
UID:10003145-1778313600-1778331600@bosd4.sbcounty.gov
SUMMARY:Household Hazardous Waste Collection
DESCRIPTION:In partnership with the San Bernardino County Fire Protection District\, the City’s Household Hazardous Waste (HHW) Program provides residents of Chino and San Bernardino County with a safe and convenient way to dispose of common household chemicals free of charge. HHW Collection events are held every 2nd and 4th Saturday of the month from 8 am to 1 pm and closed on the 4th Saturday in December at the Public Works Service Yard. \nRegularly scheduled events are subject to change. \nDuring every visit\, participants are limited to disposing 15 gallons or 125 pounds of hazardous materials in containers no larger than 5 gallons. Business waste and sharps are not accepted.
URL:https://bosd4.sbcounty.gov/event/household-hazardous-waste-collection-35/
LOCATION:Chino Public Works Service Yard\, 5050 Schaefer Ave.\, Chino\, CA\, 91710\, United States
CATEGORIES:Chino,Community Events
ATTACH;FMTTYPE=image/png:https://bosd4.sbcounty.gov/wp-content/uploads/sites/102/2024/04/Chino-Logo.png
END:VEVENT
BEGIN:VEVENT
DTSTART;TZID=America/Los_Angeles:20260512T180000
DTEND;TZID=America/Los_Angeles:20260512T210000
DTSTAMP:20260420T191716
CREATED:20260109T233447Z
LAST-MODIFIED:20260109T233447Z
UID:10003202-1778608800-1778619600@bosd4.sbcounty.gov
SUMMARY:Chino Hills Council Meeting
DESCRIPTION:Meetings take place in the City of Chino Hills Council Chambers. \nView Agendas\, Minutes\, and/or Watch Meetings Live. 
URL:https://bosd4.sbcounty.gov/event/chino-hills-council-meeting-44/
LOCATION:Chino Hills Government Center\, 14000 City Center Drive\, Chino Hills\, CA\, 91709\, United States
CATEGORIES:Chino Hills,Community Events
ATTACH;FMTTYPE=image/png:https://bosd4.sbcounty.gov/wp-content/uploads/sites/102/2024/04/Chino-Hills-Logo-1.png
END:VEVENT
BEGIN:VEVENT
DTSTART;TZID=America/Los_Angeles:20260518T190000
DTEND;TZID=America/Los_Angeles:20260518T210000
DTSTAMP:20260420T191716
CREATED:20260109T234104Z
LAST-MODIFIED:20260109T234104Z
UID:10003274-1779130800-1779138000@bosd4.sbcounty.gov
SUMMARY:Montclair Council Meeting
DESCRIPTION:Meetings will take place in the City of Montclair Council Chambers. \nView Agendas\, Minutes\, and/or Watch Meetings Live.
URL:https://bosd4.sbcounty.gov/event/montclair-council-meeting-32/
LOCATION:Montclair City Hall\, 5111 Benito Street\, Montclair\, CA\, 91763\, United States
CATEGORIES:Community Events,Montclair
ATTACH;FMTTYPE=image/png:https://bosd4.sbcounty.gov/wp-content/uploads/sites/102/2024/04/Montclair-Logo.png
END:VEVENT
BEGIN:VEVENT
DTSTART;TZID=America/Los_Angeles:20260519T180000
DTEND;TZID=America/Los_Angeles:20260519T210000
DTSTAMP:20260420T191716
CREATED:20260109T230449Z
LAST-MODIFIED:20260109T230449Z
UID:10003082-1779213600-1779224400@bosd4.sbcounty.gov
SUMMARY:Chino City Council Meeting
DESCRIPTION:Meetings take place in the City of Chino City Hall Council Chambers. \nView Agenda\, Minutes\, and/or Watch Meetings Live.
URL:https://bosd4.sbcounty.gov/event/chino-city-council-meeting-45/
LOCATION:Chino City Hall\, 13220 Central Ave.\, Chino\, CA\, 91710\, United States
CATEGORIES:Chino,Community Events
ATTACH;FMTTYPE=image/png:https://bosd4.sbcounty.gov/wp-content/uploads/sites/102/2024/04/Chino-Logo.png
END:VEVENT
BEGIN:VEVENT
DTSTART;TZID=America/Los_Angeles:20260519T183000
DTEND;TZID=America/Los_Angeles:20260519T213000
DTSTAMP:20260420T191716
CREATED:20260109T234928Z
LAST-MODIFIED:20260109T234928Z
UID:10003349-1779215400-1779226200@bosd4.sbcounty.gov
SUMMARY:Ontario City Council Meeting
DESCRIPTION:Meetings take place in the City of Ontario Council Chambers. \nView Agenda\, Minutes\, and/or Watch Meetings Live. 
URL:https://bosd4.sbcounty.gov/event/ontario-city-council-meeting-48/
LOCATION:Ontario City Hall Council Chambers\, 303 East B Street\, Ontario\, CA\, 91764\, United States
CATEGORIES:Community Events,Ontario
ATTACH;FMTTYPE=image/png:https://bosd4.sbcounty.gov/wp-content/uploads/sites/102/2024/04/City-of-Ontario-Logo_lightbg.png
END:VEVENT
BEGIN:VEVENT
DTSTART;TZID=America/Los_Angeles:20260523T080000
DTEND;TZID=America/Los_Angeles:20260523T130000
DTSTAMP:20260420T191716
CREATED:20260109T231112Z
LAST-MODIFIED:20260109T231112Z
UID:10003148-1779523200-1779541200@bosd4.sbcounty.gov
SUMMARY:Household Hazardous Waste Collection
DESCRIPTION:In partnership with the San Bernardino County Fire Protection District\, the City’s Household Hazardous Waste (HHW) Program provides residents of Chino and San Bernardino County with a safe and convenient way to dispose of common household chemicals free of charge. HHW Collection events are held every 2nd and 4th Saturday of the month from 8 am to 1 pm and closed on the 4th Saturday in December at the Public Works Service Yard. \nRegularly scheduled events are subject to change. \nDuring every visit\, participants are limited to disposing 15 gallons or 125 pounds of hazardous materials in containers no larger than 5 gallons. Business waste and sharps are not accepted.
URL:https://bosd4.sbcounty.gov/event/household-hazardous-waste-collection-36/
LOCATION:Chino Public Works Service Yard\, 5050 Schaefer Ave.\, Chino\, CA\, 91710\, United States
CATEGORIES:Chino,Community Events
ATTACH;FMTTYPE=image/png:https://bosd4.sbcounty.gov/wp-content/uploads/sites/102/2024/04/Chino-Logo.png
END:VEVENT
BEGIN:VEVENT
DTSTART;TZID=America/Los_Angeles:20260526T180000
DTEND;TZID=America/Los_Angeles:20260526T210000
DTSTAMP:20260420T191716
CREATED:20260109T233500Z
LAST-MODIFIED:20260109T233500Z
UID:10003205-1779818400-1779829200@bosd4.sbcounty.gov
SUMMARY:Chino Hills Council Meeting
DESCRIPTION:Meetings take place in the City of Chino Hills Council Chambers. \nView Agendas\, Minutes\, and/or Watch Meetings Live. 
URL:https://bosd4.sbcounty.gov/event/chino-hills-council-meeting-45/
LOCATION:Chino Hills Government Center\, 14000 City Center Drive\, Chino Hills\, CA\, 91709\, United States
CATEGORIES:Chino Hills,Community Events
ATTACH;FMTTYPE=image/png:https://bosd4.sbcounty.gov/wp-content/uploads/sites/102/2024/04/Chino-Hills-Logo-1.png
END:VEVENT
BEGIN:VEVENT
DTSTART;TZID=America/Los_Angeles:20260601T190000
DTEND;TZID=America/Los_Angeles:20260601T210000
DTSTAMP:20260420T191716
CREATED:20260109T234119Z
LAST-MODIFIED:20260109T234119Z
UID:10003277-1780340400-1780347600@bosd4.sbcounty.gov
SUMMARY:Montclair Council Meeting
DESCRIPTION:Meetings will take place in the City of Montclair Council Chambers. \nView Agendas\, Minutes\, and/or Watch Meetings Live.
URL:https://bosd4.sbcounty.gov/event/montclair-council-meeting-33/
LOCATION:Montclair City Hall\, 5111 Benito Street\, Montclair\, CA\, 91763\, United States
CATEGORIES:Community Events,Montclair
ATTACH;FMTTYPE=image/png:https://bosd4.sbcounty.gov/wp-content/uploads/sites/102/2024/04/Montclair-Logo.png
END:VEVENT
BEGIN:VEVENT
DTSTART;TZID=America/Los_Angeles:20260602T180000
DTEND;TZID=America/Los_Angeles:20260602T210000
DTSTAMP:20260420T191716
CREATED:20260109T230505Z
LAST-MODIFIED:20260109T230505Z
UID:10003085-1780423200-1780434000@bosd4.sbcounty.gov
SUMMARY:Chino City Council Meeting
DESCRIPTION:Meetings take place in the City of Chino City Hall Council Chambers. \nView Agenda\, Minutes\, and/or Watch Meetings Live.
URL:https://bosd4.sbcounty.gov/event/chino-city-council-meeting-46/
LOCATION:Chino City Hall\, 13220 Central Ave.\, Chino\, CA\, 91710\, United States
CATEGORIES:Chino,Community Events
ATTACH;FMTTYPE=image/png:https://bosd4.sbcounty.gov/wp-content/uploads/sites/102/2024/04/Chino-Logo.png
END:VEVENT
BEGIN:VEVENT
DTSTART;TZID=America/Los_Angeles:20260602T183000
DTEND;TZID=America/Los_Angeles:20260602T213000
DTSTAMP:20260420T191716
CREATED:20260109T234941Z
LAST-MODIFIED:20260109T234941Z
UID:10003352-1780425000-1780435800@bosd4.sbcounty.gov
SUMMARY:Ontario City Council Meeting
DESCRIPTION:Meetings take place in the City of Ontario Council Chambers. \nView Agenda\, Minutes\, and/or Watch Meetings Live. 
URL:https://bosd4.sbcounty.gov/event/ontario-city-council-meeting-49/
LOCATION:Ontario City Hall Council Chambers\, 303 East B Street\, Ontario\, CA\, 91764\, United States
CATEGORIES:Community Events,Ontario
ATTACH;FMTTYPE=image/png:https://bosd4.sbcounty.gov/wp-content/uploads/sites/102/2024/04/City-of-Ontario-Logo_lightbg.png
END:VEVENT
BEGIN:VEVENT
DTSTART;TZID=America/Los_Angeles:20260606T090000
DTEND;TZID=America/Los_Angeles:20260606T120000
DTSTAMP:20260420T191716
CREATED:20260420T165355Z
LAST-MODIFIED:20260420T165406Z
UID:10003403-1780736400-1780747200@bosd4.sbcounty.gov
SUMMARY:Chino Document Shredding Event
DESCRIPTION:Ready to safely dispose of your old documents? I’ve partnered with the City of Chino to bring San Bernardino County residents a FREE document shredding event!  Join Team Hagman on Saturday\, June 6\, 2026\, from 9 am-12 pm\n(or until the shredding truck reaches capacity) at Chino City Hall. \nSan Bernardino County Residents Only; out-of-county residents will be turned away\nDocuments will be destroyed on-site\nLimit of 3 standard filing-size (10″x”12″x15″) boxes per vehicle.\nNo Batteries\, CDs\, DVDs\, Binders\, X-rays\, Plastics\, etc. \nChino City Hall\n13220 Central Ave.\nChino\, CA 91710 \nRegister today at https://bit.ly/HagmanShred0626 \nLet’s keep our personal information safe and our community secure!
URL:https://bosd4.sbcounty.gov/event/chino-document-shredding-event/
LOCATION:Chino City Hall\, 13220 Central Ave.\, Chino\, CA\, 91710\, United States
CATEGORIES:Chino,Chino Hills,Community Events,Montclair,Ontario,Upland
ATTACH;FMTTYPE=image/jpeg:https://bosd4.sbcounty.gov/wp-content/uploads/sites/102/Shredding-Event-SMS-Message-Graphic.jpg
ORGANIZER;CN="Supervisor Curt Hagman's Office":MAILTO:supervisor.hagman@bos.sbcounty.gov
END:VEVENT
BEGIN:VEVENT
DTSTART;TZID=America/Los_Angeles:20260609T180000
DTEND;TZID=America/Los_Angeles:20260609T210000
DTSTAMP:20260420T191716
CREATED:20260109T233513Z
LAST-MODIFIED:20260109T233513Z
UID:10003208-1781028000-1781038800@bosd4.sbcounty.gov
SUMMARY:Chino Hills Council Meeting
DESCRIPTION:Meetings take place in the City of Chino Hills Council Chambers. \nView Agendas\, Minutes\, and/or Watch Meetings Live. 
URL:https://bosd4.sbcounty.gov/event/chino-hills-council-meeting-46/
LOCATION:Chino Hills Government Center\, 14000 City Center Drive\, Chino Hills\, CA\, 91709\, United States
CATEGORIES:Chino Hills,Community Events
ATTACH;FMTTYPE=image/png:https://bosd4.sbcounty.gov/wp-content/uploads/sites/102/2024/04/Chino-Hills-Logo-1.png
END:VEVENT
BEGIN:VEVENT
DTSTART;TZID=America/Los_Angeles:20260613T080000
DTEND;TZID=America/Los_Angeles:20260613T130000
DTSTAMP:20260420T191716
CREATED:20260109T231147Z
LAST-MODIFIED:20260109T231147Z
UID:10003151-1781337600-1781355600@bosd4.sbcounty.gov
SUMMARY:Household Hazardous Waste Collection
DESCRIPTION:In partnership with the San Bernardino County Fire Protection District\, the City’s Household Hazardous Waste (HHW) Program provides residents of Chino and San Bernardino County with a safe and convenient way to dispose of common household chemicals free of charge. HHW Collection events are held every 2nd and 4th Saturday of the month from 8 am to 1 pm and closed on the 4th Saturday in December at the Public Works Service Yard. \nRegularly scheduled events are subject to change. \nDuring every visit\, participants are limited to disposing 15 gallons or 125 pounds of hazardous materials in containers no larger than 5 gallons. Business waste and sharps are not accepted.
URL:https://bosd4.sbcounty.gov/event/household-hazardous-waste-collection-37/
LOCATION:Chino Public Works Service Yard\, 5050 Schaefer Ave.\, Chino\, CA\, 91710\, United States
CATEGORIES:Chino,Community Events
ATTACH;FMTTYPE=image/png:https://bosd4.sbcounty.gov/wp-content/uploads/sites/102/2024/04/Chino-Logo.png
END:VEVENT
BEGIN:VEVENT
DTSTART;TZID=America/Los_Angeles:20260615T190000
DTEND;TZID=America/Los_Angeles:20260615T210000
DTSTAMP:20260420T191716
CREATED:20260109T234132Z
LAST-MODIFIED:20260109T234132Z
UID:10003280-1781550000-1781557200@bosd4.sbcounty.gov
SUMMARY:Montclair Council Meeting
DESCRIPTION:Meetings will take place in the City of Montclair Council Chambers. \nView Agendas\, Minutes\, and/or Watch Meetings Live.
URL:https://bosd4.sbcounty.gov/event/montclair-council-meeting-34/
LOCATION:Montclair City Hall\, 5111 Benito Street\, Montclair\, CA\, 91763\, United States
CATEGORIES:Community Events,Montclair
ATTACH;FMTTYPE=image/png:https://bosd4.sbcounty.gov/wp-content/uploads/sites/102/2024/04/Montclair-Logo.png
END:VEVENT
BEGIN:VEVENT
DTSTART;TZID=America/Los_Angeles:20260616T180000
DTEND;TZID=America/Los_Angeles:20260616T210000
DTSTAMP:20260420T191716
CREATED:20260109T230517Z
LAST-MODIFIED:20260109T230517Z
UID:10003088-1781632800-1781643600@bosd4.sbcounty.gov
SUMMARY:Chino City Council Meeting
DESCRIPTION:Meetings take place in the City of Chino City Hall Council Chambers. \nView Agenda\, Minutes\, and/or Watch Meetings Live.
URL:https://bosd4.sbcounty.gov/event/chino-city-council-meeting-47/
LOCATION:Chino City Hall\, 13220 Central Ave.\, Chino\, CA\, 91710\, United States
CATEGORIES:Chino,Community Events
ATTACH;FMTTYPE=image/png:https://bosd4.sbcounty.gov/wp-content/uploads/sites/102/2024/04/Chino-Logo.png
END:VEVENT
BEGIN:VEVENT
DTSTART;TZID=America/Los_Angeles:20260616T183000
DTEND;TZID=America/Los_Angeles:20260616T213000
DTSTAMP:20260420T191716
CREATED:20260109T235010Z
LAST-MODIFIED:20260109T235010Z
UID:10003355-1781634600-1781645400@bosd4.sbcounty.gov
SUMMARY:Ontario City Council Meeting
DESCRIPTION:Meetings take place in the City of Ontario Council Chambers. \nView Agenda\, Minutes\, and/or Watch Meetings Live. 
URL:https://bosd4.sbcounty.gov/event/ontario-city-council-meeting-50/
LOCATION:Ontario City Hall Council Chambers\, 303 East B Street\, Ontario\, CA\, 91764\, United States
CATEGORIES:Community Events,Ontario
ATTACH;FMTTYPE=image/png:https://bosd4.sbcounty.gov/wp-content/uploads/sites/102/2024/04/City-of-Ontario-Logo_lightbg.png
END:VEVENT
BEGIN:VEVENT
DTSTART;TZID=America/Los_Angeles:20260623T180000
DTEND;TZID=America/Los_Angeles:20260623T210000
DTSTAMP:20260420T191716
CREATED:20260109T233524Z
LAST-MODIFIED:20260109T233524Z
UID:10003211-1782237600-1782248400@bosd4.sbcounty.gov
SUMMARY:Chino Hills Council Meeting
DESCRIPTION:Meetings take place in the City of Chino Hills Council Chambers. \nView Agendas\, Minutes\, and/or Watch Meetings Live. 
URL:https://bosd4.sbcounty.gov/event/chino-hills-council-meeting-47/
LOCATION:Chino Hills Government Center\, 14000 City Center Drive\, Chino Hills\, CA\, 91709\, United States
CATEGORIES:Chino Hills,Community Events
ATTACH;FMTTYPE=image/png:https://bosd4.sbcounty.gov/wp-content/uploads/sites/102/2024/04/Chino-Hills-Logo-1.png
END:VEVENT
BEGIN:VEVENT
DTSTART;TZID=America/Los_Angeles:20260627T080000
DTEND;TZID=America/Los_Angeles:20260627T130000
DTSTAMP:20260420T191716
CREATED:20260109T231200Z
LAST-MODIFIED:20260109T231236Z
UID:10003154-1782547200-1782565200@bosd4.sbcounty.gov
SUMMARY:Household Hazardous Waste Collection
DESCRIPTION:In partnership with the San Bernardino County Fire Protection District\, the City’s Household Hazardous Waste (HHW) Program provides residents of Chino and San Bernardino County with a safe and convenient way to dispose of common household chemicals free of charge. HHW Collection events are held every 2nd and 4th Saturday of the month from 8 am to 1 pm and closed on the 4th Saturday in December at the Public Works Service Yard. \nRegularly scheduled events are subject to change. \nDuring every visit\, participants are limited to disposing 15 gallons or 125 pounds of hazardous materials in containers no larger than 5 gallons. Business waste and sharps are not accepted.
URL:https://bosd4.sbcounty.gov/event/household-hazardous-waste-collection-38/
LOCATION:Chino Public Works Service Yard\, 5050 Schaefer Ave.\, Chino\, CA\, 91710\, United States
CATEGORIES:Chino,Community Events
ATTACH;FMTTYPE=image/png:https://bosd4.sbcounty.gov/wp-content/uploads/sites/102/2024/04/Chino-Logo.png
END:VEVENT
BEGIN:VEVENT
DTSTART;TZID=America/Los_Angeles:20260706T190000
DTEND;TZID=America/Los_Angeles:20260706T210000
DTSTAMP:20260420T191716
CREATED:20260109T234147Z
LAST-MODIFIED:20260109T234147Z
UID:10003283-1783364400-1783371600@bosd4.sbcounty.gov
SUMMARY:Montclair Council Meeting
DESCRIPTION:Meetings will take place in the City of Montclair Council Chambers. \nView Agendas\, Minutes\, and/or Watch Meetings Live.
URL:https://bosd4.sbcounty.gov/event/montclair-council-meeting-35/
LOCATION:Montclair City Hall\, 5111 Benito Street\, Montclair\, CA\, 91763\, United States
CATEGORIES:Community Events,Montclair
ATTACH;FMTTYPE=image/png:https://bosd4.sbcounty.gov/wp-content/uploads/sites/102/2024/04/Montclair-Logo.png
END:VEVENT
BEGIN:VEVENT
DTSTART;TZID=America/Los_Angeles:20260707T180000
DTEND;TZID=America/Los_Angeles:20260707T210000
DTSTAMP:20260420T191716
CREATED:20260109T230534Z
LAST-MODIFIED:20260109T230534Z
UID:10003091-1783447200-1783458000@bosd4.sbcounty.gov
SUMMARY:Chino City Council Meeting
DESCRIPTION:Meetings take place in the City of Chino City Hall Council Chambers. \nView Agenda\, Minutes\, and/or Watch Meetings Live.
URL:https://bosd4.sbcounty.gov/event/chino-city-council-meeting-48/
LOCATION:Chino City Hall\, 13220 Central Ave.\, Chino\, CA\, 91710\, United States
CATEGORIES:Chino,Community Events
ATTACH;FMTTYPE=image/png:https://bosd4.sbcounty.gov/wp-content/uploads/sites/102/2024/04/Chino-Logo.png
END:VEVENT
BEGIN:VEVENT
DTSTART;TZID=America/Los_Angeles:20260707T183000
DTEND;TZID=America/Los_Angeles:20260707T213000
DTSTAMP:20260420T191716
CREATED:20260109T235023Z
LAST-MODIFIED:20260109T235023Z
UID:10003358-1783449000-1783459800@bosd4.sbcounty.gov
SUMMARY:Ontario City Council Meeting
DESCRIPTION:Meetings take place in the City of Ontario Council Chambers. \nView Agenda\, Minutes\, and/or Watch Meetings Live. 
URL:https://bosd4.sbcounty.gov/event/ontario-city-council-meeting-51/
LOCATION:Ontario City Hall Council Chambers\, 303 East B Street\, Ontario\, CA\, 91764\, United States
CATEGORIES:Community Events,Ontario
ATTACH;FMTTYPE=image/png:https://bosd4.sbcounty.gov/wp-content/uploads/sites/102/2024/04/City-of-Ontario-Logo_lightbg.png
END:VEVENT
END:VCALENDAR