BEGIN:VCALENDAR
VERSION:2.0
PRODID:-//Curt Hagman Fourth District Supervisor - ECPv6.15.14//NONSGML v1.0//EN
CALSCALE:GREGORIAN
METHOD:PUBLISH
X-WR-CALNAME:Curt Hagman Fourth District Supervisor
X-ORIGINAL-URL:https://bosd4.sbcounty.gov
X-WR-CALDESC:Events for Curt Hagman Fourth District Supervisor
REFRESH-INTERVAL;VALUE=DURATION:PT1H
X-Robots-Tag:noindex
X-PUBLISHED-TTL:PT1H
BEGIN:VTIMEZONE
TZID:America/Los_Angeles
BEGIN:DAYLIGHT
TZOFFSETFROM:-0800
TZOFFSETTO:-0700
TZNAME:PDT
DTSTART:20250309T100000
END:DAYLIGHT
BEGIN:STANDARD
TZOFFSETFROM:-0700
TZOFFSETTO:-0800
TZNAME:PST
DTSTART:20251102T090000
END:STANDARD
BEGIN:DAYLIGHT
TZOFFSETFROM:-0800
TZOFFSETTO:-0700
TZNAME:PDT
DTSTART:20260308T100000
END:DAYLIGHT
BEGIN:STANDARD
TZOFFSETFROM:-0700
TZOFFSETTO:-0800
TZNAME:PST
DTSTART:20261101T090000
END:STANDARD
BEGIN:DAYLIGHT
TZOFFSETFROM:-0800
TZOFFSETTO:-0700
TZNAME:PDT
DTSTART:20270314T100000
END:DAYLIGHT
BEGIN:STANDARD
TZOFFSETFROM:-0700
TZOFFSETTO:-0800
TZNAME:PST
DTSTART:20271107T090000
END:STANDARD
END:VTIMEZONE
BEGIN:VEVENT
DTSTART;TZID=America/Los_Angeles:20260901T183000
DTEND;TZID=America/Los_Angeles:20260901T213000
DTSTAMP:20260422T170327
CREATED:20260109T235118Z
LAST-MODIFIED:20260109T235118Z
UID:10003370-1788287400-1788298200@bosd4.sbcounty.gov
SUMMARY:Ontario City Council Meeting
DESCRIPTION:Meetings take place in the City of Ontario Council Chambers. \nView Agenda\, Minutes\, and/or Watch Meetings Live. 
URL:https://bosd4.sbcounty.gov/event/ontario-city-council-meeting-55/
LOCATION:Ontario City Hall Council Chambers\, 303 East B Street\, Ontario\, CA\, 91764\, United States
CATEGORIES:Community Events,Ontario
ATTACH;FMTTYPE=image/png:https://bosd4.sbcounty.gov/wp-content/uploads/sites/102/2024/04/City-of-Ontario-Logo_lightbg.png
END:VEVENT
BEGIN:VEVENT
DTSTART;TZID=America/Los_Angeles:20260915T183000
DTEND;TZID=America/Los_Angeles:20260915T213000
DTSTAMP:20260422T170327
CREATED:20260109T235130Z
LAST-MODIFIED:20260109T235130Z
UID:10003373-1789497000-1789507800@bosd4.sbcounty.gov
SUMMARY:Ontario City Council Meeting
DESCRIPTION:Meetings take place in the City of Ontario Council Chambers. \nView Agenda\, Minutes\, and/or Watch Meetings Live. 
URL:https://bosd4.sbcounty.gov/event/ontario-city-council-meeting-56/
LOCATION:Ontario City Hall Council Chambers\, 303 East B Street\, Ontario\, CA\, 91764\, United States
CATEGORIES:Community Events,Ontario
ATTACH;FMTTYPE=image/png:https://bosd4.sbcounty.gov/wp-content/uploads/sites/102/2024/04/City-of-Ontario-Logo_lightbg.png
END:VEVENT
BEGIN:VEVENT
DTSTART;TZID=America/Los_Angeles:20261006T183000
DTEND;TZID=America/Los_Angeles:20261006T213000
DTSTAMP:20260422T170327
CREATED:20260109T235142Z
LAST-MODIFIED:20260109T235142Z
UID:10003376-1791311400-1791322200@bosd4.sbcounty.gov
SUMMARY:Ontario City Council Meeting
DESCRIPTION:Meetings take place in the City of Ontario Council Chambers. \nView Agenda\, Minutes\, and/or Watch Meetings Live. 
URL:https://bosd4.sbcounty.gov/event/ontario-city-council-meeting-57/
LOCATION:Ontario City Hall Council Chambers\, 303 East B Street\, Ontario\, CA\, 91764\, United States
CATEGORIES:Community Events,Ontario
ATTACH;FMTTYPE=image/png:https://bosd4.sbcounty.gov/wp-content/uploads/sites/102/2024/04/City-of-Ontario-Logo_lightbg.png
END:VEVENT
BEGIN:VEVENT
DTSTART;TZID=America/Los_Angeles:20261020T183000
DTEND;TZID=America/Los_Angeles:20261020T213000
DTSTAMP:20260422T170327
CREATED:20260109T235154Z
LAST-MODIFIED:20260109T235154Z
UID:10003379-1792521000-1792531800@bosd4.sbcounty.gov
SUMMARY:Ontario City Council Meeting
DESCRIPTION:Meetings take place in the City of Ontario Council Chambers. \nView Agenda\, Minutes\, and/or Watch Meetings Live. 
URL:https://bosd4.sbcounty.gov/event/ontario-city-council-meeting-58/
LOCATION:Ontario City Hall Council Chambers\, 303 East B Street\, Ontario\, CA\, 91764\, United States
CATEGORIES:Community Events,Ontario
ATTACH;FMTTYPE=image/png:https://bosd4.sbcounty.gov/wp-content/uploads/sites/102/2024/04/City-of-Ontario-Logo_lightbg.png
END:VEVENT
BEGIN:VEVENT
DTSTART;TZID=America/Los_Angeles:20261103T183000
DTEND;TZID=America/Los_Angeles:20261103T213000
DTSTAMP:20260422T170327
CREATED:20260109T235208Z
LAST-MODIFIED:20260109T235208Z
UID:10003382-1793730600-1793741400@bosd4.sbcounty.gov
SUMMARY:Ontario City Council Meeting
DESCRIPTION:Meetings take place in the City of Ontario Council Chambers. \nView Agenda\, Minutes\, and/or Watch Meetings Live. 
URL:https://bosd4.sbcounty.gov/event/ontario-city-council-meeting-59/
LOCATION:Ontario City Hall Council Chambers\, 303 East B Street\, Ontario\, CA\, 91764\, United States
CATEGORIES:Community Events,Ontario
ATTACH;FMTTYPE=image/png:https://bosd4.sbcounty.gov/wp-content/uploads/sites/102/2024/04/City-of-Ontario-Logo_lightbg.png
END:VEVENT
END:VCALENDAR