BEGIN:VCALENDAR
VERSION:2.0
PRODID:-//Curt Hagman Fourth District Supervisor - ECPv6.15.14//NONSGML v1.0//EN
CALSCALE:GREGORIAN
METHOD:PUBLISH
X-ORIGINAL-URL:https://bosd4.sbcounty.gov
X-WR-CALDESC:Events for Curt Hagman Fourth District Supervisor
REFRESH-INTERVAL;VALUE=DURATION:PT1H
X-Robots-Tag:noindex
X-PUBLISHED-TTL:PT1H
BEGIN:VTIMEZONE
TZID:America/Los_Angeles
BEGIN:DAYLIGHT
TZOFFSETFROM:-0800
TZOFFSETTO:-0700
TZNAME:PDT
DTSTART:20250309T100000
END:DAYLIGHT
BEGIN:STANDARD
TZOFFSETFROM:-0700
TZOFFSETTO:-0800
TZNAME:PST
DTSTART:20251102T090000
END:STANDARD
BEGIN:DAYLIGHT
TZOFFSETFROM:-0800
TZOFFSETTO:-0700
TZNAME:PDT
DTSTART:20260308T100000
END:DAYLIGHT
BEGIN:STANDARD
TZOFFSETFROM:-0700
TZOFFSETTO:-0800
TZNAME:PST
DTSTART:20261101T090000
END:STANDARD
BEGIN:DAYLIGHT
TZOFFSETFROM:-0800
TZOFFSETTO:-0700
TZNAME:PDT
DTSTART:20270314T100000
END:DAYLIGHT
BEGIN:STANDARD
TZOFFSETFROM:-0700
TZOFFSETTO:-0800
TZNAME:PST
DTSTART:20271107T090000
END:STANDARD
END:VTIMEZONE
BEGIN:VEVENT
DTSTART;TZID=America/Los_Angeles:20260706T190000
DTEND;TZID=America/Los_Angeles:20260706T210000
DTSTAMP:20260424T085607
CREATED:20260109T234147Z
LAST-MODIFIED:20260109T234147Z
UID:10003283-1783364400-1783371600@bosd4.sbcounty.gov
SUMMARY:Montclair Council Meeting
DESCRIPTION:Meetings will take place in the City of Montclair Council Chambers. \nView Agendas\, Minutes\, and/or Watch Meetings Live.
URL:https://bosd4.sbcounty.gov/event/montclair-council-meeting-35/
LOCATION:Montclair City Hall\, 5111 Benito Street\, Montclair\, CA\, 91763\, United States
CATEGORIES:Community Events,Montclair
ATTACH;FMTTYPE=image/png:https://bosd4.sbcounty.gov/wp-content/uploads/sites/102/2024/04/Montclair-Logo.png
END:VEVENT
BEGIN:VEVENT
DTSTART;TZID=America/Los_Angeles:20260707T180000
DTEND;TZID=America/Los_Angeles:20260707T210000
DTSTAMP:20260424T085607
CREATED:20260109T230534Z
LAST-MODIFIED:20260109T230534Z
UID:10003091-1783447200-1783458000@bosd4.sbcounty.gov
SUMMARY:Chino City Council Meeting
DESCRIPTION:Meetings take place in the City of Chino City Hall Council Chambers. \nView Agenda\, Minutes\, and/or Watch Meetings Live.
URL:https://bosd4.sbcounty.gov/event/chino-city-council-meeting-48/
LOCATION:Chino City Hall\, 13220 Central Ave.\, Chino\, CA\, 91710\, United States
CATEGORIES:Chino,Community Events
ATTACH;FMTTYPE=image/png:https://bosd4.sbcounty.gov/wp-content/uploads/sites/102/2024/04/Chino-Logo.png
END:VEVENT
BEGIN:VEVENT
DTSTART;TZID=America/Los_Angeles:20260707T183000
DTEND;TZID=America/Los_Angeles:20260707T213000
DTSTAMP:20260424T085607
CREATED:20260109T235023Z
LAST-MODIFIED:20260109T235023Z
UID:10003358-1783449000-1783459800@bosd4.sbcounty.gov
SUMMARY:Ontario City Council Meeting
DESCRIPTION:Meetings take place in the City of Ontario Council Chambers. \nView Agenda\, Minutes\, and/or Watch Meetings Live. 
URL:https://bosd4.sbcounty.gov/event/ontario-city-council-meeting-51/
LOCATION:Ontario City Hall Council Chambers\, 303 East B Street\, Ontario\, CA\, 91764\, United States
CATEGORIES:Community Events,Ontario
ATTACH;FMTTYPE=image/png:https://bosd4.sbcounty.gov/wp-content/uploads/sites/102/2024/04/City-of-Ontario-Logo_lightbg.png
END:VEVENT
BEGIN:VEVENT
DTSTART;TZID=America/Los_Angeles:20260711T080000
DTEND;TZID=America/Los_Angeles:20260711T130000
DTSTAMP:20260424T085607
CREATED:20260109T231318Z
LAST-MODIFIED:20260109T231318Z
UID:10003157-1783756800-1783774800@bosd4.sbcounty.gov
SUMMARY:Household Hazardous Waste Collection
DESCRIPTION:In partnership with the San Bernardino County Fire Protection District\, the City’s Household Hazardous Waste (HHW) Program provides residents of Chino and San Bernardino County with a safe and convenient way to dispose of common household chemicals free of charge. HHW Collection events are held every 2nd and 4th Saturday of the month from 8 am to 1 pm and closed on the 4th Saturday in December at the Public Works Service Yard. \nRegularly scheduled events are subject to change. \nDuring every visit\, participants are limited to disposing 15 gallons or 125 pounds of hazardous materials in containers no larger than 5 gallons. Business waste and sharps are not accepted.
URL:https://bosd4.sbcounty.gov/event/household-hazardous-waste-collection-39/
LOCATION:Chino Public Works Service Yard\, 5050 Schaefer Ave.\, Chino\, CA\, 91710\, United States
CATEGORIES:Chino,Community Events
ATTACH;FMTTYPE=image/png:https://bosd4.sbcounty.gov/wp-content/uploads/sites/102/2024/04/Chino-Logo.png
END:VEVENT
BEGIN:VEVENT
DTSTART;TZID=America/Los_Angeles:20260714T180000
DTEND;TZID=America/Los_Angeles:20260714T210000
DTSTAMP:20260424T085607
CREATED:20260109T233539Z
LAST-MODIFIED:20260109T233539Z
UID:10003214-1784052000-1784062800@bosd4.sbcounty.gov
SUMMARY:Chino Hills Council Meeting
DESCRIPTION:Meetings take place in the City of Chino Hills Council Chambers. \nView Agendas\, Minutes\, and/or Watch Meetings Live. 
URL:https://bosd4.sbcounty.gov/event/chino-hills-council-meeting-48/
LOCATION:Chino Hills Government Center\, 14000 City Center Drive\, Chino Hills\, CA\, 91709\, United States
CATEGORIES:Chino Hills,Community Events
ATTACH;FMTTYPE=image/png:https://bosd4.sbcounty.gov/wp-content/uploads/sites/102/2024/04/Chino-Hills-Logo-1.png
END:VEVENT
BEGIN:VEVENT
DTSTART;TZID=America/Los_Angeles:20260720T190000
DTEND;TZID=America/Los_Angeles:20260720T210000
DTSTAMP:20260424T085607
CREATED:20260109T234203Z
LAST-MODIFIED:20260109T234203Z
UID:10003286-1784574000-1784581200@bosd4.sbcounty.gov
SUMMARY:Montclair Council Meeting
DESCRIPTION:Meetings will take place in the City of Montclair Council Chambers. \nView Agendas\, Minutes\, and/or Watch Meetings Live.
URL:https://bosd4.sbcounty.gov/event/montclair-council-meeting-36/
LOCATION:Montclair City Hall\, 5111 Benito Street\, Montclair\, CA\, 91763\, United States
CATEGORIES:Community Events,Montclair
ATTACH;FMTTYPE=image/png:https://bosd4.sbcounty.gov/wp-content/uploads/sites/102/2024/04/Montclair-Logo.png
END:VEVENT
BEGIN:VEVENT
DTSTART;TZID=America/Los_Angeles:20260721T180000
DTEND;TZID=America/Los_Angeles:20260721T210000
DTSTAMP:20260424T085607
CREATED:20260109T230546Z
LAST-MODIFIED:20260109T230546Z
UID:10003094-1784656800-1784667600@bosd4.sbcounty.gov
SUMMARY:Chino City Council Meeting
DESCRIPTION:Meetings take place in the City of Chino City Hall Council Chambers. \nView Agenda\, Minutes\, and/or Watch Meetings Live.
URL:https://bosd4.sbcounty.gov/event/chino-city-council-meeting-49/
LOCATION:Chino City Hall\, 13220 Central Ave.\, Chino\, CA\, 91710\, United States
CATEGORIES:Chino,Community Events
ATTACH;FMTTYPE=image/png:https://bosd4.sbcounty.gov/wp-content/uploads/sites/102/2024/04/Chino-Logo.png
END:VEVENT
BEGIN:VEVENT
DTSTART;TZID=America/Los_Angeles:20260721T183000
DTEND;TZID=America/Los_Angeles:20260721T213000
DTSTAMP:20260424T085607
CREATED:20260109T235037Z
LAST-MODIFIED:20260109T235037Z
UID:10003361-1784658600-1784669400@bosd4.sbcounty.gov
SUMMARY:Ontario City Council Meeting
DESCRIPTION:Meetings take place in the City of Ontario Council Chambers. \nView Agenda\, Minutes\, and/or Watch Meetings Live. 
URL:https://bosd4.sbcounty.gov/event/ontario-city-council-meeting-52/
LOCATION:Ontario City Hall Council Chambers\, 303 East B Street\, Ontario\, CA\, 91764\, United States
CATEGORIES:Community Events,Ontario
ATTACH;FMTTYPE=image/png:https://bosd4.sbcounty.gov/wp-content/uploads/sites/102/2024/04/City-of-Ontario-Logo_lightbg.png
END:VEVENT
BEGIN:VEVENT
DTSTART;TZID=America/Los_Angeles:20260728T180000
DTEND;TZID=America/Los_Angeles:20260728T210000
DTSTAMP:20260424T085607
CREATED:20260109T233550Z
LAST-MODIFIED:20260109T233550Z
UID:10003217-1785261600-1785272400@bosd4.sbcounty.gov
SUMMARY:Chino Hills Council Meeting
DESCRIPTION:Meetings take place in the City of Chino Hills Council Chambers. \nView Agendas\, Minutes\, and/or Watch Meetings Live. 
URL:https://bosd4.sbcounty.gov/event/chino-hills-council-meeting-49/
LOCATION:Chino Hills Government Center\, 14000 City Center Drive\, Chino Hills\, CA\, 91709\, United States
CATEGORIES:Chino Hills,Community Events
ATTACH;FMTTYPE=image/png:https://bosd4.sbcounty.gov/wp-content/uploads/sites/102/2024/04/Chino-Hills-Logo-1.png
END:VEVENT
END:VCALENDAR