BEGIN:VCALENDAR
VERSION:2.0
PRODID:-//Curt Hagman Fourth District Supervisor - ECPv6.15.14//NONSGML v1.0//EN
CALSCALE:GREGORIAN
METHOD:PUBLISH
X-WR-CALNAME:Curt Hagman Fourth District Supervisor
X-ORIGINAL-URL:https://bosd4.sbcounty.gov
X-WR-CALDESC:Events for Curt Hagman Fourth District Supervisor
REFRESH-INTERVAL;VALUE=DURATION:PT1H
X-Robots-Tag:noindex
X-PUBLISHED-TTL:PT1H
BEGIN:VTIMEZONE
TZID:America/Los_Angeles
BEGIN:DAYLIGHT
TZOFFSETFROM:-0800
TZOFFSETTO:-0700
TZNAME:PDT
DTSTART:20250309T100000
END:DAYLIGHT
BEGIN:STANDARD
TZOFFSETFROM:-0700
TZOFFSETTO:-0800
TZNAME:PST
DTSTART:20251102T090000
END:STANDARD
BEGIN:DAYLIGHT
TZOFFSETFROM:-0800
TZOFFSETTO:-0700
TZNAME:PDT
DTSTART:20260308T100000
END:DAYLIGHT
BEGIN:STANDARD
TZOFFSETFROM:-0700
TZOFFSETTO:-0800
TZNAME:PST
DTSTART:20261101T090000
END:STANDARD
BEGIN:DAYLIGHT
TZOFFSETFROM:-0800
TZOFFSETTO:-0700
TZNAME:PDT
DTSTART:20270314T100000
END:DAYLIGHT
BEGIN:STANDARD
TZOFFSETFROM:-0700
TZOFFSETTO:-0800
TZNAME:PST
DTSTART:20271107T090000
END:STANDARD
END:VTIMEZONE
BEGIN:VEVENT
DTSTART;TZID=America/Los_Angeles:20260606T090000
DTEND;TZID=America/Los_Angeles:20260606T120000
DTSTAMP:20260420T214714
CREATED:20260420T165355Z
LAST-MODIFIED:20260420T165406Z
UID:10003403-1780736400-1780747200@bosd4.sbcounty.gov
SUMMARY:Chino Document Shredding Event
DESCRIPTION:Ready to safely dispose of your old documents? I’ve partnered with the City of Chino to bring San Bernardino County residents a FREE document shredding event!  Join Team Hagman on Saturday\, June 6\, 2026\, from 9 am-12 pm\n(or until the shredding truck reaches capacity) at Chino City Hall. \nSan Bernardino County Residents Only; out-of-county residents will be turned away\nDocuments will be destroyed on-site\nLimit of 3 standard filing-size (10″x”12″x15″) boxes per vehicle.\nNo Batteries\, CDs\, DVDs\, Binders\, X-rays\, Plastics\, etc. \nChino City Hall\n13220 Central Ave.\nChino\, CA 91710 \nRegister today at https://bit.ly/HagmanShred0626 \nLet’s keep our personal information safe and our community secure!
URL:https://bosd4.sbcounty.gov/event/chino-document-shredding-event/
LOCATION:Chino City Hall\, 13220 Central Ave.\, Chino\, CA\, 91710\, United States
CATEGORIES:Chino,Chino Hills,Community Events,Montclair,Ontario,Upland
ATTACH;FMTTYPE=image/jpeg:https://bosd4.sbcounty.gov/wp-content/uploads/sites/102/Shredding-Event-SMS-Message-Graphic.jpg
ORGANIZER;CN="Supervisor Curt Hagman's Office":MAILTO:supervisor.hagman@bos.sbcounty.gov
END:VEVENT
END:VCALENDAR